BEGIN:VCALENDAR
VERSION:2.0
PRODID:-//Good Shepherd Lutheran Church - ECPv6.15.20//NONSGML v1.0//EN
CALSCALE:GREGORIAN
METHOD:PUBLISH
X-WR-CALNAME:Good Shepherd Lutheran Church
X-ORIGINAL-URL:https://gslcwi.com
X-WR-CALDESC:Events for Good Shepherd Lutheran Church
REFRESH-INTERVAL;VALUE=DURATION:PT1H
X-Robots-Tag:noindex
X-PUBLISHED-TTL:PT1H
BEGIN:VTIMEZONE
TZID:America/Chicago
BEGIN:DAYLIGHT
TZOFFSETFROM:-0600
TZOFFSETTO:-0500
TZNAME:CDT
DTSTART:20250309T080000
END:DAYLIGHT
BEGIN:STANDARD
TZOFFSETFROM:-0500
TZOFFSETTO:-0600
TZNAME:CST
DTSTART:20251102T070000
END:STANDARD
BEGIN:DAYLIGHT
TZOFFSETFROM:-0600
TZOFFSETTO:-0500
TZNAME:CDT
DTSTART:20260308T080000
END:DAYLIGHT
BEGIN:STANDARD
TZOFFSETFROM:-0500
TZOFFSETTO:-0600
TZNAME:CST
DTSTART:20261101T070000
END:STANDARD
BEGIN:DAYLIGHT
TZOFFSETFROM:-0600
TZOFFSETTO:-0500
TZNAME:CDT
DTSTART:20270314T080000
END:DAYLIGHT
BEGIN:STANDARD
TZOFFSETFROM:-0500
TZOFFSETTO:-0600
TZNAME:CST
DTSTART:20271107T070000
END:STANDARD
END:VTIMEZONE
BEGIN:VEVENT
DTSTART;TZID=America/Chicago:20260520T183000
DTEND;TZID=America/Chicago:20260520T200000
DTSTAMP:20260419T101051
CREATED:20260418T170511Z
LAST-MODIFIED:20260418T170511Z
UID:10025920-1779301800-1779307200@gslcwi.com
SUMMARY:Madison Achiever's Toastmaster Club
DESCRIPTION:Steve Czarniak sczarniakmn@gmail.com\nSean Bode 608-335-0435
URL:https://gslcwi.com/event/madison-achievers-toastmaster-club-73/
LOCATION:Madison Good Shepherd Room
END:VEVENT
BEGIN:VEVENT
DTSTART;TZID=America/Chicago:20260520T190000
DTEND;TZID=America/Chicago:20260520T203000
DTSTAMP:20260419T101051
CREATED:20260418T170510Z
LAST-MODIFIED:20260418T170510Z
UID:10025919-1779303600-1779309000@gslcwi.com
SUMMARY:Choir Rehearsal
DESCRIPTION:________________________________________________________________________________\nMicrosoft Teams Need help?\nJoin the meeting now\nMeeting ID: 265 704 690 470 7\nPasscode: tZ7zu7FR\n________________________________\nFor organizers: Meeting options\n________________________________________________________________________________
URL:https://gslcwi.com/event/choir-rehearsal-152/
LOCATION:Madison Sanctuary
END:VEVENT
BEGIN:VEVENT
DTSTART;TZID=America/Chicago:20260521T093000
DTEND;TZID=America/Chicago:20260521T120000
DTSTAMP:20260419T101051
CREATED:20260418T171004Z
LAST-MODIFIED:20260418T171004Z
UID:10025924-1779355800-1779364800@gslcwi.com
SUMMARY:Pisando Fuerte
DESCRIPTION:Leo Munoz\, leom@newbridgemadison.org\nRT
URL:https://gslcwi.com/event/pisando-fuerte-15/
LOCATION:Madison Good Shepherd Room
END:VEVENT
BEGIN:VEVENT
DTSTART;TZID=America/Chicago:20260521T093000
DTEND;TZID=America/Chicago:20260521T120000
DTSTAMP:20260419T101051
CREATED:20260418T171005Z
LAST-MODIFIED:20260418T171005Z
UID:10025925-1779355800-1779364800@gslcwi.com
SUMMARY:GSLC Food Pantry
DESCRIPTION:RT
URL:https://gslcwi.com/event/gslc-food-pantry-261/
LOCATION:Madison Lobby
END:VEVENT
BEGIN:VEVENT
DTSTART;TZID=America/Chicago:20260521T093000
DTEND;TZID=America/Chicago:20260521T120000
DTSTAMP:20260419T101051
CREATED:20260418T171006Z
LAST-MODIFIED:20260418T171006Z
UID:10025926-1779355800-1779364800@gslcwi.com
SUMMARY:Clothes Closet
DESCRIPTION:
URL:https://gslcwi.com/event/clothes-closet-358/
LOCATION:Madison Kitchen
END:VEVENT
BEGIN:VEVENT
DTSTART;TZID=America/Chicago:20260521T170000
DTEND;TZID=America/Chicago:20260521T203000
DTSTAMP:20260419T101051
CREATED:20260418T171506Z
LAST-MODIFIED:20260418T171506Z
UID:10025929-1779382800-1779395400@gslcwi.com
SUMMARY:Cub Scout Meeting
DESCRIPTION:Brian Ruppert bruppert@gmail.com
URL:https://gslcwi.com/event/cub-scout-meeting-39/
LOCATION:Verona Fellowship Hall; Verona Fire Pit
END:VEVENT
BEGIN:VEVENT
DTSTART;TZID=America/Chicago:20260521T173000
DTEND;TZID=America/Chicago:20260521T190000
DTSTAMP:20260419T101051
CREATED:20260418T171504Z
LAST-MODIFIED:20260418T171504Z
UID:10025927-1779384600-1779390000@gslcwi.com
SUMMARY:GSLC Food Pantrty
DESCRIPTION:
URL:https://gslcwi.com/event/gslc-food-pantrty-259/
LOCATION:Madison Peterson Hall
END:VEVENT
BEGIN:VEVENT
DTSTART;TZID=America/Chicago:20260521T190000
DTEND;TZID=America/Chicago:20260521T200000
DTSTAMP:20260419T101051
CREATED:20260415T164522Z
LAST-MODIFIED:20260416T145552Z
UID:10025774-1779390000-1779393600@gslcwi.com
SUMMARY:"The Future is Peace" Book Group
DESCRIPTION:A Shared Journey Across the Holy Land\nTwo lifelong peace activists and guides to Israel/Palestine\, both of whom have lost family in the conflict\, take readers on a revealing journey across this holy\, bloodstained land and discover the mythic\, political and personal history that divides but also binds them and their peoples. \nWeekly Reading Schedule \n\nWeek One: Introduction\, Day One\, Day Two\nWeek Two: Day Three\, Day Four\nWeek Three: Day Five and Day Six\nWeek Four: Day Seven\, Day Eight and Epilogue\n\nClick here to RSVP  \nClick here to order a hard copy of the book \nClick here to order the Kindle version \n 
URL:https://gslcwi.com/event/the-future-is-peace-book-group/2026-05-21/
LOCATION:Good Shepherd Verona Campus\, 7291 County Road PD\, Verona\, WI\, 53593\, United States
CATEGORIES:Adult Education
ATTACH;FMTTYPE=image/jpeg:https://gslcwi.com/wp-content/uploads/2026/04/Peace-Book-Slide-2026.jpg
ORGANIZER;CN="Eric Holmer":MAILTO:eholmer@gslcwi.com
END:VEVENT
BEGIN:VEVENT
DTSTART;TZID=America/Chicago:20260521T190000
DTEND;TZID=America/Chicago:20260521T210000
DTSTAMP:20260419T101051
CREATED:20260418T171505Z
LAST-MODIFIED:20260418T171505Z
UID:10025928-1779390000-1779397200@gslcwi.com
SUMMARY:10:00 Worship Band Rehearsal
DESCRIPTION:Tracy Dahl\n________________________________________________________________________________\nMicrosoft Teams Need help?\nJoin the meeting now\nMeeting ID: 245 083 983 401 78\nPasscode: zJ2j3V3L\n________________________________\nFor organizers: Meeting options\n________________________________________________________________________________
URL:https://gslcwi.com/event/1000-worship-band-rehearsal-78/
LOCATION:Verona Sanctuary
END:VEVENT
BEGIN:VEVENT
DTSTART;TZID=America/Chicago:20260522T063000
DTEND;TZID=America/Chicago:20260522T073000
DTSTAMP:20260419T101051
CREATED:20220924T190555Z
LAST-MODIFIED:20260121T194640Z
UID:10016168-1779431400-1779435000@gslcwi.com
SUMMARY:Friday Morning Men's Group
DESCRIPTION:A men’s gathering for support\, study\, and fellowship.
URL:https://gslcwi.com/event/friday-morning-mens-group-74/2026-05-22/
LOCATION:Verona Coffee Bar
CATEGORIES:Adult Education,Men's Ministry
ORGANIZER;CN="Rick Thomas":MAILTO:rthomas@gslcwi.com
END:VEVENT
BEGIN:VEVENT
DTSTART;TZID=America/Chicago:20260522T063000
DTEND;TZID=America/Chicago:20260522T073000
DTSTAMP:20260419T101051
CREATED:20260418T171507Z
LAST-MODIFIED:20260418T171507Z
UID:10025930-1779431400-1779435000@gslcwi.com
SUMMARY:Friday Morning Men's Group
DESCRIPTION:RT\nNathan Brinkman
URL:https://gslcwi.com/event/friday-morning-mens-group-197/
LOCATION:Verona Coffee Bar
END:VEVENT
BEGIN:VEVENT
DTSTART;TZID=America/Chicago:20260522T130000
DTEND;TZID=America/Chicago:20260522T170000
DTSTAMP:20260419T101051
CREATED:20260418T171508Z
LAST-MODIFIED:20260418T171508Z
UID:10025931-1779454800-1779469200@gslcwi.com
SUMMARY:Pickleball
DESCRIPTION:Phyllis Wiederhoeft\n608-235-6312\npwiederhoeft@gmail.com\n________________________________________________________________________________\nMicrosoft Teams Need help?\nJoin the meeting now\nMeeting ID: 297 226 134 502 5\nPasscode: Xc36EC6C\n________________________________\nFor organizers: Meeting options\n________________________________________________________________________________
URL:https://gslcwi.com/event/pickleball-368/
LOCATION:Verona Gym
END:VEVENT
BEGIN:VEVENT
DTSTART;TZID=America/Chicago:20260523T083000
DTEND;TZID=America/Chicago:20260523T093000
DTSTAMP:20260419T101051
CREATED:20220925T214224Z
LAST-MODIFIED:20230921T134939Z
UID:10016504-1779525000-1779528600@gslcwi.com
SUMMARY:Men's Bible Study Zoom
DESCRIPTION:A small group bible study and fellowship group.
URL:https://gslcwi.com/event/mens-bible-study-zoom-74/2026-05-23/
LOCATION:Zoom Meeting
CATEGORIES:Bible Study,Men's Ministry
ORGANIZER;CN="Vern Andren":MAILTO:vwacja12@outlook.com
END:VEVENT
BEGIN:VEVENT
DTSTART;TZID=America/Chicago:20260524T090000
DTEND;TZID=America/Chicago:20260524T100000
DTSTAMP:20260419T101051
CREATED:20240609T130655Z
LAST-MODIFIED:20240926T161612Z
UID:10013835-1779613200-1779616800@gslcwi.com
SUMMARY:9:00 a.m. Worship Service
DESCRIPTION:You’re invited to the intersection of Whitney Way and Raymond Road for a morning of worship with traditional Lutheran textures and rhythms.
URL:https://gslcwi.com/event/900-worship-service-24-13-2-7/2026-05-24/
LOCATION:Madison Sanctuary
CATEGORIES:Worship
ATTACH;FMTTYPE=image/jpeg:https://gslcwi.com/wp-content/uploads/2024/05/9am2.jpg
END:VEVENT
BEGIN:VEVENT
DTSTART;TZID=America/Chicago:20260524T090000
DTEND;TZID=America/Chicago:20260524T100000
DTSTAMP:20260419T101051
CREATED:20260418T171942Z
LAST-MODIFIED:20260418T171942Z
UID:10025932-1779613200-1779616800@gslcwi.com
SUMMARY:Madison Church Service
DESCRIPTION:Pr. Craig
URL:https://gslcwi.com/event/madison-church-service-72/
LOCATION:Madison Sanctuary; Madison Lobby
END:VEVENT
BEGIN:VEVENT
DTSTART;TZID=America/Chicago:20260524T100000
DTEND;TZID=America/Chicago:20260524T110000
DTSTAMP:20260419T101051
CREATED:20240610T203803Z
LAST-MODIFIED:20240610T203803Z
UID:10020225-1779616800-1779620400@gslcwi.com
SUMMARY:10:00 a.m. Worship Service
DESCRIPTION:Join us on County Highway PD in Verona for morning Worship service featuring modern expressions of praise and prayer anchored by foundational traditions.
URL:https://gslcwi.com/event/1000-a-m-worship-service/2026-05-24/
LOCATION:Good Shepherd Verona Campus\, 7291 County Road PD\, Verona\, WI\, 53593\, United States
CATEGORIES:Worship
ATTACH;FMTTYPE=image/jpeg:https://gslcwi.com/wp-content/uploads/2024/06/10_am_worship_verona.jpg
ORGANIZER;CN="Jared Stellmacher":MAILTO:jstellmacher@gslcwi.com
END:VEVENT
BEGIN:VEVENT
DTSTART;TZID=America/Chicago:20260524T120000
DTEND;TZID=America/Chicago:20260524T160000
DTSTAMP:20260419T101051
CREATED:20260418T171944Z
LAST-MODIFIED:20260418T171944Z
UID:10025935-1779624000-1779638400@gslcwi.com
SUMMARY:Iglesia evangelica el remanente
DESCRIPTION:Juan\, alcaconstruction@yahoo.com\nRT\nNelsy Palma nelsypalma24@gmail.com\nMisael Gamez misaelgamezguti@gmail.com
URL:https://gslcwi.com/event/iglesia-evangelica-el-remanente-302/
LOCATION:Madison Peterson Hall
END:VEVENT
BEGIN:VEVENT
DTSTART;TZID=America/Chicago:20260524T120000
DTEND;TZID=America/Chicago:20260524T170000
DTSTAMP:20260419T101051
CREATED:20220925T214225Z
LAST-MODIFIED:20230307T202102Z
UID:10017672-1779624000-1779642000@gslcwi.com
SUMMARY:Pickleball
DESCRIPTION:
URL:https://gslcwi.com/event/pickleball-81/2026-05-24/
LOCATION:Verona Gym
CATEGORIES:Sports,Verona Gym
ATTACH;FMTTYPE=image/jpeg:https://gslcwi.com/wp-content/uploads/2023/02/pickleball2-1.jpg
END:VEVENT
BEGIN:VEVENT
DTSTART;TZID=America/Chicago:20260524T130000
DTEND;TZID=America/Chicago:20260524T170000
DTSTAMP:20260419T101051
CREATED:20260418T171942Z
LAST-MODIFIED:20260418T171942Z
UID:10025933-1779627600-1779642000@gslcwi.com
SUMMARY:Pickleball
DESCRIPTION:Phyllis Wiederhoeft\npwiederhoeft@gmail.com
URL:https://gslcwi.com/event/pickleball-369/
LOCATION:Verona Gym
END:VEVENT
BEGIN:VEVENT
DTSTART;TZID=America/Chicago:20260524T140000
DTEND;TZID=America/Chicago:20260524T153000
DTSTAMP:20260419T101051
CREATED:20260418T171945Z
LAST-MODIFIED:20260418T171945Z
UID:10025936-1779631200-1779636600@gslcwi.com
SUMMARY:Girl Scouts
DESCRIPTION:Sara Powers sapowers09@gmail.com
URL:https://gslcwi.com/event/girl-scouts-257/
LOCATION:Madison Room 11/The Sheep Fold
END:VEVENT
BEGIN:VEVENT
DTSTART;TZID=America/Chicago:20260524T153000
DTEND;TZID=America/Chicago:20260524T180000
DTSTAMP:20260419T101051
CREATED:20260418T171943Z
LAST-MODIFIED:20260418T171943Z
UID:10025934-1779636600-1779645600@gslcwi.com
SUMMARY:Faith of Christ Church
DESCRIPTION:Gorge Garcia\, gorgegarcia613@yahoo.com
URL:https://gslcwi.com/event/faith-of-christ-church-274/
LOCATION:Madison Room 11/The Sheep Fold
END:VEVENT
BEGIN:VEVENT
DTSTART;TZID=America/Chicago:20260524T180000
DTEND;TZID=America/Chicago:20260524T190000
DTSTAMP:20260419T101051
CREATED:20240925T155628Z
LAST-MODIFIED:20240925T155628Z
UID:10021211-1779645600-1779649200@gslcwi.com
SUMMARY:6:00 p.m. Worship Service
DESCRIPTION:A worship service with evening rhythms for song\, prayer\, and reflection rooted in ancient practices and present day cares & concerns.
URL:https://gslcwi.com/event/600-p-m-worship-service/2026-05-24/
LOCATION:Good Shepherd Verona Campus\, 7291 County Road PD\, Verona\, WI\, 53593\, United States
CATEGORIES:Worship
ATTACH;FMTTYPE=image/jpeg:https://gslcwi.com/wp-content/uploads/2024/09/6pmw2-1.jpg
ORGANIZER;CN="Jared Stellmacher":MAILTO:jstellmacher@gslcwi.com
END:VEVENT
BEGIN:VEVENT
DTSTART;TZID=America/Chicago:20260525T083000
DTEND;TZID=America/Chicago:20260525T100000
DTSTAMP:20260419T101051
CREATED:20260418T172424Z
LAST-MODIFIED:20260418T172424Z
UID:10025937-1779697800-1779703200@gslcwi.com
SUMMARY:Clothes Closet Sorters
DESCRIPTION:Courtnety
URL:https://gslcwi.com/event/clothes-closet-sorters-58/
LOCATION:Madison Peterson Hall
END:VEVENT
BEGIN:VEVENT
DTSTART;TZID=America/Chicago:20260525T130000
DTEND;TZID=America/Chicago:20260525T153000
DTSTAMP:20260419T101051
CREATED:20260418T172425Z
LAST-MODIFIED:20260418T172425Z
UID:10025938-1779714000-1779723000@gslcwi.com
SUMMARY:Card Ministry
DESCRIPTION:Ruth P <ruthepaulson@gmail.com>\nRuth comes at 12:30 to setup.
URL:https://gslcwi.com/event/card-ministry-49/
LOCATION:Madison Good Shepherd Room
END:VEVENT
BEGIN:VEVENT
DTSTART;TZID=America/Chicago:20260525T160000
DTEND;TZID=America/Chicago:20260525T173000
DTSTAMP:20260419T101051
CREATED:20220923T135855Z
LAST-MODIFIED:20230913T194729Z
UID:10015614-1779724800-1779730200@gslcwi.com
SUMMARY:Literacy Network
DESCRIPTION:
URL:https://gslcwi.com/event/literacy-network-40/2026-05-25/
LOCATION:Madison Room 11/The Sheep Fold; Madison Room 9
CATEGORIES:Community Event
END:VEVENT
BEGIN:VEVENT
DTSTART;TZID=America/Chicago:20260525T173000
DTEND;TZID=America/Chicago:20260525T190000
DTSTAMP:20260419T101051
CREATED:20260418T172425Z
LAST-MODIFIED:20260418T172425Z
UID:10025939-1779730200-1779735600@gslcwi.com
SUMMARY:Girl Scouts
DESCRIPTION:Kim Cleveland 763-300-2363\n________________________________________________________________________________\nMicrosoft Teams Need help?\nJoin the meeting now\nMeeting ID: 299 791 989 031 61\nPasscode: mo9uD3Lg\n________________________________\nFor organizers: Meeting options\n________________________________________________________________________________
URL:https://gslcwi.com/event/girl-scouts-258/
LOCATION:Verona Fellowship Hall
END:VEVENT
BEGIN:VEVENT
DTSTART;TZID=America/Chicago:20260525T180000
DTEND;TZID=America/Chicago:20260525T203000
DTSTAMP:20260419T101051
CREATED:20260418T172426Z
LAST-MODIFIED:20260418T172426Z
UID:10025940-1779732000-1779741000@gslcwi.com
SUMMARY:Grace Collective
DESCRIPTION:Holly Simon\, hollyjsimon@gmail.com
URL:https://gslcwi.com/event/grace-collective-13/
LOCATION:Verona Sanctuary
END:VEVENT
BEGIN:VEVENT
DTSTART;TZID=America/Chicago:20260526T083000
DTEND;TZID=America/Chicago:20260526T093000
DTSTAMP:20260419T101051
CREATED:20260418T172426Z
LAST-MODIFIED:20260418T172426Z
UID:10025941-1779784200-1779787800@gslcwi.com
SUMMARY:Birth to 3 Play Group
DESCRIPTION:See Tracy Gold
URL:https://gslcwi.com/event/birth-to-3-play-group-37/
LOCATION:Verona Gym
END:VEVENT
BEGIN:VEVENT
DTSTART;TZID=America/Chicago:20260526T090000
DTEND;TZID=America/Chicago:20260526T110000
DTSTAMP:20260419T101051
CREATED:20230320T152255Z
LAST-MODIFIED:20230921T134352Z
UID:10014643-1779786000-1779793200@gslcwi.com
SUMMARY:Tuesday Trekkers
DESCRIPTION:Join other GS folks for an hour-long hike\, Tuesdays at 9am.  Meets at different locations around the area\, enjoying fresh air and fellowship.
URL:https://gslcwi.com/event/tuesday-trekkers-8/2026-05-26/
LOCATION:Offsite
CATEGORIES:Adult Education,Fellowship,Sports
ATTACH;FMTTYPE=image/jpeg:https://gslcwi.com/wp-content/uploads/2023/03/trekers720.jpg
ORGANIZER;CN="Diane Hughes":MAILTO:dhhands@sbcglobal.net
END:VEVENT
BEGIN:VEVENT
DTSTART;TZID=America/Chicago:20260526T173000
DTEND;TZID=America/Chicago:20260526T193000
DTSTAMP:20260419T101051
CREATED:20260416T173303Z
LAST-MODIFIED:20260416T173303Z
UID:10025847-1779816600-1779823800@gslcwi.com
SUMMARY:The Grace Collective
DESCRIPTION:A new GSLC women’s social community is forming to bring women together to grow in faith\, friendship and community. Join us Tuesday\, May 26 for an Ice Age Trail hike followed by tacos at AzTec Taqueria (160 Keenan Ct\, Verona). Hikers meet at the McKee/S. High Point Ice Age Trail segment parking lot/shelter at 5:30–5:45 p.m.\, or meet at AzTec at 6:30 p.m. Not into hiking? Come just for food and conversation. For updates\, contact Holly at hollyjsimon@gmail.com or join the Facebook group “The Grace Collective – GSLC.”
URL:https://gslcwi.com/event/the-grace-collective-2/
ATTACH;FMTTYPE=image/jpeg:https://gslcwi.com/wp-content/uploads/2026/01/The-Grace-Collective-16x9-copy.jpg
END:VEVENT
END:VCALENDAR