BEGIN:VCALENDAR
VERSION:2.0
PRODID:-//Good Shepherd Lutheran Church - ECPv6.15.20//NONSGML v1.0//EN
CALSCALE:GREGORIAN
METHOD:PUBLISH
X-WR-CALNAME:Good Shepherd Lutheran Church
X-ORIGINAL-URL:https://gslcwi.com
X-WR-CALDESC:Events for Good Shepherd Lutheran Church
REFRESH-INTERVAL;VALUE=DURATION:PT1H
X-Robots-Tag:noindex
X-PUBLISHED-TTL:PT1H
BEGIN:VTIMEZONE
TZID:America/Chicago
BEGIN:DAYLIGHT
TZOFFSETFROM:-0600
TZOFFSETTO:-0500
TZNAME:CDT
DTSTART:20240310T080000
END:DAYLIGHT
BEGIN:STANDARD
TZOFFSETFROM:-0500
TZOFFSETTO:-0600
TZNAME:CST
DTSTART:20241103T070000
END:STANDARD
BEGIN:DAYLIGHT
TZOFFSETFROM:-0600
TZOFFSETTO:-0500
TZNAME:CDT
DTSTART:20250309T080000
END:DAYLIGHT
BEGIN:STANDARD
TZOFFSETFROM:-0500
TZOFFSETTO:-0600
TZNAME:CST
DTSTART:20251102T070000
END:STANDARD
BEGIN:DAYLIGHT
TZOFFSETFROM:-0600
TZOFFSETTO:-0500
TZNAME:CDT
DTSTART:20260308T080000
END:DAYLIGHT
BEGIN:STANDARD
TZOFFSETFROM:-0500
TZOFFSETTO:-0600
TZNAME:CST
DTSTART:20261101T070000
END:STANDARD
END:VTIMEZONE
BEGIN:VEVENT
DTSTART;TZID=America/Chicago:20250202T130000
DTEND;TZID=America/Chicago:20250202T150000
DTSTAMP:20260422T171238
CREATED:20250109T184536Z
LAST-MODIFIED:20250114T185255Z
UID:10022049-1738501200-1738508400@gslcwi.com
SUMMARY:Little Blessings Preschool 25th Anniversary
DESCRIPTION:Come and celebrate with us! Little Blessings Preschool is having its 25th Anniversary celebration on February 2 from 1 p.m. to 3 p.m. We will have a short family worship service\, light refreshments\, and fellowship.
URL:https://gslcwi.com/event/little-blessings-preschool-25th-anniversary/
LOCATION:Good Shepherd Madison Campus\, 5701 Raymond Road\, Madison\, WI\, 53711\, United States
CATEGORIES:Community Event,Little Blessings Preschool
ATTACH;FMTTYPE=image/jpeg:https://gslcwi.com/wp-content/uploads/2025/01/Comp-2-0000000.jpg
END:VEVENT
BEGIN:VEVENT
DTSTART;TZID=America/Chicago:20250204T183000
DTEND;TZID=America/Chicago:20250204T200000
DTSTAMP:20260422T171238
CREATED:20250103T021355Z
LAST-MODIFIED:20250130T223506Z
UID:10022022-1738693800-1738699200@gslcwi.com
SUMMARY:Bonhoeffer Class Week 3 | Faith is Worldly
DESCRIPTION:Bonhoeffer and “This-Worldliness”\nBy attending this session\, participants will continue to consider Bonhoeffer’s theological and ethical themes\, but now in light of his thinking about justice. They will continue to think about the relevance of Bonhoeffer’s thought for our politically fraught and divisive times. \nZoom Meeting Details\nClick here to join the Zoom meeting \nTopic: Good Shepherd | Bonhoeffer Class 3\nTime: Feb 4\, 2025 06:30 PM Central Time (US and Canada)\nJoin Zoom Meeting\nhttps://duke.zoom.us/j/98621143192 \nMeeting ID: 986 2114 3192 \n  \n  \n 
URL:https://gslcwi.com/event/bonhoeffer-class-3/
LOCATION:Madison Peterson Hall
CATEGORIES:Adult Education
ATTACH;FMTTYPE=image/jpeg:https://gslcwi.com/wp-content/uploads/2025/01/Bonhoeffer-Classs.jpg
END:VEVENT
END:VCALENDAR