BEGIN:VCALENDAR
VERSION:2.0
PRODID:-//Good Shepherd Lutheran Church - ECPv6.15.20//NONSGML v1.0//EN
CALSCALE:GREGORIAN
METHOD:PUBLISH
X-WR-CALNAME:Good Shepherd Lutheran Church
X-ORIGINAL-URL:https://gslcwi.com
X-WR-CALDESC:Events for Good Shepherd Lutheran Church
REFRESH-INTERVAL;VALUE=DURATION:PT1H
X-Robots-Tag:noindex
X-PUBLISHED-TTL:PT1H
BEGIN:VTIMEZONE
TZID:America/Chicago
BEGIN:DAYLIGHT
TZOFFSETFROM:-0600
TZOFFSETTO:-0500
TZNAME:CDT
DTSTART:20220313T080000
END:DAYLIGHT
BEGIN:STANDARD
TZOFFSETFROM:-0500
TZOFFSETTO:-0600
TZNAME:CST
DTSTART:20221106T070000
END:STANDARD
BEGIN:DAYLIGHT
TZOFFSETFROM:-0600
TZOFFSETTO:-0500
TZNAME:CDT
DTSTART:20230312T080000
END:DAYLIGHT
BEGIN:STANDARD
TZOFFSETFROM:-0500
TZOFFSETTO:-0600
TZNAME:CST
DTSTART:20231105T070000
END:STANDARD
BEGIN:DAYLIGHT
TZOFFSETFROM:-0600
TZOFFSETTO:-0500
TZNAME:CDT
DTSTART:20240310T080000
END:DAYLIGHT
BEGIN:STANDARD
TZOFFSETFROM:-0500
TZOFFSETTO:-0600
TZNAME:CST
DTSTART:20241103T070000
END:STANDARD
END:VTIMEZONE
BEGIN:VEVENT
DTSTART;TZID=America/Chicago:20231201T100000
DTEND;TZID=America/Chicago:20231201T130000
DTSTAMP:20260420T112547
CREATED:20231102T064243Z
LAST-MODIFIED:20231130T015448Z
UID:10017253-1701424800-1701435600@gslcwi.com
SUMMARY:New Bridge Meals
DESCRIPTION:
URL:https://gslcwi.com/event/new-bridge-meals-166/
LOCATION:Madison Kitchen; Madison Peterson Hall
CATEGORIES:External Group
END:VEVENT
BEGIN:VEVENT
DTSTART;TZID=America/Chicago:20231124T100000
DTEND;TZID=America/Chicago:20231124T130000
DTSTAMP:20260420T112547
CREATED:20231026T061424Z
LAST-MODIFIED:20231109T040643Z
UID:10017198-1700820000-1700830800@gslcwi.com
SUMMARY:New Bridge Meals
DESCRIPTION:
URL:https://gslcwi.com/event/new-bridge-meals-165/
LOCATION:Madison Kitchen; Madison Peterson Hall
CATEGORIES:External Group
END:VEVENT
BEGIN:VEVENT
DTSTART;TZID=America/Chicago:20231117T100000
DTEND;TZID=America/Chicago:20231117T130000
DTSTAMP:20260420T112547
CREATED:20231019T073831Z
LAST-MODIFIED:20231116T015944Z
UID:10017156-1700215200-1700226000@gslcwi.com
SUMMARY:New Bridge Meals
DESCRIPTION:
URL:https://gslcwi.com/event/new-bridge-meals-164/
LOCATION:Madison Kitchen; Madison Peterson Hall
CATEGORIES:External Group
END:VEVENT
BEGIN:VEVENT
DTSTART;TZID=America/Chicago:20231110T100000
DTEND;TZID=America/Chicago:20231110T130000
DTSTAMP:20260420T112547
CREATED:20231012T065153Z
LAST-MODIFIED:20231109T014243Z
UID:10017104-1699610400-1699621200@gslcwi.com
SUMMARY:New Bridge Meals
DESCRIPTION:
URL:https://gslcwi.com/event/new-bridge-meals-163/
LOCATION:Madison Kitchen; Madison Peterson Hall
CATEGORIES:External Group
END:VEVENT
BEGIN:VEVENT
DTSTART;TZID=America/Chicago:20231103T100000
DTEND;TZID=America/Chicago:20231103T130000
DTSTAMP:20260420T112547
CREATED:20231005T061924Z
LAST-MODIFIED:20231102T014253Z
UID:10017058-1699005600-1699016400@gslcwi.com
SUMMARY:New Bridge Meals
DESCRIPTION:
URL:https://gslcwi.com/event/new-bridge-meals-162/
LOCATION:Madison Kitchen; Madison Peterson Hall
CATEGORIES:External Group
END:VEVENT
BEGIN:VEVENT
DTSTART;TZID=America/Chicago:20231027T100000
DTEND;TZID=America/Chicago:20231027T130000
DTSTAMP:20260420T112547
CREATED:20230928T064023Z
LAST-MODIFIED:20231026T013533Z
UID:10016992-1698400800-1698411600@gslcwi.com
SUMMARY:New Bridge Meals
DESCRIPTION:
URL:https://gslcwi.com/event/new-bridge-meals-161/
LOCATION:Madison Kitchen; Madison Peterson Hall
CATEGORIES:External Group
END:VEVENT
BEGIN:VEVENT
DTSTART;TZID=America/Chicago:20231020T100000
DTEND;TZID=America/Chicago:20231020T130000
DTSTAMP:20260420T112547
CREATED:20230928T051124Z
LAST-MODIFIED:20231019T012455Z
UID:10016951-1697796000-1697806800@gslcwi.com
SUMMARY:New Bridge Meals
DESCRIPTION:
URL:https://gslcwi.com/event/new-bridge-meals-160/
LOCATION:Madison Kitchen; Madison Peterson Hall
CATEGORIES:External Group
END:VEVENT
BEGIN:VEVENT
DTSTART;TZID=America/Chicago:20231013T100000
DTEND;TZID=America/Chicago:20231013T130000
DTSTAMP:20260420T112547
CREATED:20230907T055625Z
LAST-MODIFIED:20231012T012753Z
UID:10015544-1697191200-1697202000@gslcwi.com
SUMMARY:New Bridge Meals
DESCRIPTION:
URL:https://gslcwi.com/event/new-bridge-meals-159/
LOCATION:Madison Kitchen; Madison Peterson Hall
CATEGORIES:External Group
END:VEVENT
BEGIN:VEVENT
DTSTART;TZID=America/Chicago:20231006T100000
DTEND;TZID=America/Chicago:20231006T130000
DTSTAMP:20260420T112547
CREATED:20230907T044116Z
LAST-MODIFIED:20231005T005942Z
UID:10015538-1696586400-1696597200@gslcwi.com
SUMMARY:New Bridge Meals
DESCRIPTION:
URL:https://gslcwi.com/event/new-bridge-meals-158/
LOCATION:Madison Kitchen; Madison Peterson Hall
CATEGORIES:External Group
END:VEVENT
BEGIN:VEVENT
DTSTART;TZID=America/Chicago:20230929T100000
DTEND;TZID=America/Chicago:20230929T130000
DTSTAMP:20260420T112547
CREATED:20230907T033156Z
LAST-MODIFIED:20230928T005817Z
UID:10015534-1695981600-1695992400@gslcwi.com
SUMMARY:New Bridge Meals
DESCRIPTION:
URL:https://gslcwi.com/event/new-bridge-meals-157/
LOCATION:Madison Kitchen; Madison Peterson Hall
CATEGORIES:External Group
END:VEVENT
BEGIN:VEVENT
DTSTART;TZID=America/Chicago:20230922T100000
DTEND;TZID=America/Chicago:20230922T130000
DTSTAMP:20260420T112547
CREATED:20230907T022331Z
LAST-MODIFIED:20230921T012658Z
UID:10015530-1695376800-1695387600@gslcwi.com
SUMMARY:New Bridge Meals
DESCRIPTION:
URL:https://gslcwi.com/event/new-bridge-meals-156/
LOCATION:Madison Kitchen; Madison Peterson Hall
CATEGORIES:External Group
END:VEVENT
BEGIN:VEVENT
DTSTART;TZID=America/Chicago:20230915T100000
DTEND;TZID=America/Chicago:20230915T130000
DTSTAMP:20260420T112547
CREATED:20230907T012929Z
LAST-MODIFIED:20230914T014434Z
UID:10015526-1694772000-1694782800@gslcwi.com
SUMMARY:New Bridge Meals
DESCRIPTION:
URL:https://gslcwi.com/event/new-bridge-meals-155/
LOCATION:Madison Kitchen; Madison Peterson Hall
CATEGORIES:External Group
END:VEVENT
BEGIN:VEVENT
DTSTART;TZID=America/Chicago:20230908T100000
DTEND;TZID=America/Chicago:20230908T130000
DTSTAMP:20260420T112547
CREATED:20230907T003224Z
LAST-MODIFIED:20230907T193506Z
UID:10015520-1694167200-1694178000@gslcwi.com
SUMMARY:New Bridge Meals
DESCRIPTION:
URL:https://gslcwi.com/event/new-bridge-meals-154/
LOCATION:Madison Kitchen; Madison Peterson Hall
CATEGORIES:External Group
END:VEVENT
BEGIN:VEVENT
DTSTART;TZID=America/Chicago:20230901T093000
DTEND;TZID=America/Chicago:20230901T130000
DTSTAMP:20260420T112547
CREATED:20230803T044245Z
LAST-MODIFIED:20230831T001823Z
UID:10014982-1693560600-1693573200@gslcwi.com
SUMMARY:New Bridge Meals
DESCRIPTION:
URL:https://gslcwi.com/event/new-bridge-meals-153/
LOCATION:Madison Kitchen; Madison Peterson Hall
CATEGORIES:External Group
END:VEVENT
BEGIN:VEVENT
DTSTART;TZID=America/Chicago:20230825T093000
DTEND;TZID=America/Chicago:20230825T130000
DTSTAMP:20260420T112547
CREATED:20230803T033926Z
LAST-MODIFIED:20230824T005051Z
UID:10014957-1692955800-1692968400@gslcwi.com
SUMMARY:New Bridge Meals
DESCRIPTION:
URL:https://gslcwi.com/event/new-bridge-meals-152/
LOCATION:Madison Kitchen; Madison Peterson Hall
CATEGORIES:External Group
END:VEVENT
BEGIN:VEVENT
DTSTART;TZID=America/Chicago:20230818T093000
DTEND;TZID=America/Chicago:20230818T130000
DTSTAMP:20260420T112547
CREATED:20230727T050806Z
LAST-MODIFIED:20230817T000757Z
UID:10014918-1692351000-1692363600@gslcwi.com
SUMMARY:New Bridge Meals
DESCRIPTION:
URL:https://gslcwi.com/event/new-bridge-meals-149/
LOCATION:Madison Kitchen; Madison Peterson Hall
CATEGORIES:External Group
END:VEVENT
BEGIN:VEVENT
DTSTART;TZID=America/Chicago:20230811T093000
DTEND;TZID=America/Chicago:20230811T130000
DTSTAMP:20260420T112547
CREATED:20230727T031521Z
LAST-MODIFIED:20230810T003411Z
UID:10014883-1691746200-1691758800@gslcwi.com
SUMMARY:New Bridge Meals
DESCRIPTION:
URL:https://gslcwi.com/event/new-bridge-meals-146/
LOCATION:Madison Kitchen; Madison Peterson Hall
CATEGORIES:External Group
END:VEVENT
BEGIN:VEVENT
DTSTART;TZID=America/Chicago:20230804T093000
DTEND;TZID=America/Chicago:20230804T130000
DTSTAMP:20260420T112547
CREATED:20230720T044404Z
LAST-MODIFIED:20230802T233645Z
UID:10014839-1691141400-1691154000@gslcwi.com
SUMMARY:New Bridge Meals
DESCRIPTION:
URL:https://gslcwi.com/event/new-bridge-meals-143/
LOCATION:Madison Kitchen; Madison Peterson Hall
CATEGORIES:External Group
END:VEVENT
BEGIN:VEVENT
DTSTART;TZID=America/Chicago:20230728T093000
DTEND;TZID=America/Chicago:20230728T130000
DTSTAMP:20260420T112547
CREATED:20230713T042612Z
LAST-MODIFIED:20230726T233501Z
UID:10014798-1690536600-1690549200@gslcwi.com
SUMMARY:New Bridge Meals
DESCRIPTION:
URL:https://gslcwi.com/event/new-bridge-meals-140/
LOCATION:Madison Kitchen; Madison Peterson Hall
CATEGORIES:External Group
END:VEVENT
BEGIN:VEVENT
DTSTART;TZID=America/Chicago:20230721T093000
DTEND;TZID=America/Chicago:20230721T130000
DTSTAMP:20260420T112547
CREATED:20230629T050217Z
LAST-MODIFIED:20230719T234359Z
UID:10014582-1689931800-1689944400@gslcwi.com
SUMMARY:New Bridge Meals
DESCRIPTION:
URL:https://gslcwi.com/event/new-bridge-meals-137/
LOCATION:Madison Kitchen; Madison Peterson Hall
CATEGORIES:External Group
END:VEVENT
BEGIN:VEVENT
DTSTART;TZID=America/Chicago:20230714T093000
DTEND;TZID=America/Chicago:20230714T130000
DTSTAMP:20260420T112547
CREATED:20230622T041325Z
LAST-MODIFIED:20230712T233321Z
UID:10014530-1689327000-1689339600@gslcwi.com
SUMMARY:New Bridge Meals
DESCRIPTION:
URL:https://gslcwi.com/event/new-bridge-meals-134/
LOCATION:Madison Kitchen; Madison Peterson Hall
CATEGORIES:External Group
END:VEVENT
BEGIN:VEVENT
DTSTART;TZID=America/Chicago:20230707T093000
DTEND;TZID=America/Chicago:20230707T130000
DTSTAMP:20260420T112547
CREATED:20230615T040800Z
LAST-MODIFIED:20230705T231538Z
UID:10014321-1688722200-1688734800@gslcwi.com
SUMMARY:New Bridge Meals
DESCRIPTION:
URL:https://gslcwi.com/event/new-bridge-meals-131/
LOCATION:Madison Kitchen; Madison Peterson Hall
CATEGORIES:External Group
END:VEVENT
BEGIN:VEVENT
DTSTART;TZID=America/Chicago:20230630T093000
DTEND;TZID=America/Chicago:20230630T130000
DTSTAMP:20260420T112547
CREATED:20230525T035819Z
LAST-MODIFIED:20230628T225744Z
UID:10014251-1688117400-1688130000@gslcwi.com
SUMMARY:New Bridge Meals
DESCRIPTION:
URL:https://gslcwi.com/event/new-bridge-meals-128/
LOCATION:Madison Kitchen; Madison Peterson Hall
CATEGORIES:External Group
END:VEVENT
BEGIN:VEVENT
DTSTART;TZID=America/Chicago:20230623T093000
DTEND;TZID=America/Chicago:20230623T130000
DTSTAMP:20260420T112547
CREATED:20230518T031741Z
LAST-MODIFIED:20230621T224205Z
UID:10014041-1687512600-1687525200@gslcwi.com
SUMMARY:New Bridge Meals
DESCRIPTION:
URL:https://gslcwi.com/event/new-bridge-meals-125/
LOCATION:Madison Kitchen; Madison Peterson Hall
CATEGORIES:External Group
END:VEVENT
BEGIN:VEVENT
DTSTART;TZID=America/Chicago:20230616T093000
DTEND;TZID=America/Chicago:20230616T130000
DTSTAMP:20260420T112547
CREATED:20230511T031919Z
LAST-MODIFIED:20230614T220718Z
UID:10013989-1686907800-1686920400@gslcwi.com
SUMMARY:New Bridge Meals
DESCRIPTION:
URL:https://gslcwi.com/event/new-bridge-meals-122/
LOCATION:Madison Kitchen; Madison Peterson Hall
CATEGORIES:External Group
END:VEVENT
BEGIN:VEVENT
DTSTART;TZID=America/Chicago:20230609T093000
DTEND;TZID=America/Chicago:20230609T130000
DTSTAMP:20260420T112547
CREATED:20230511T022144Z
LAST-MODIFIED:20230607T215945Z
UID:10013953-1686303000-1686315600@gslcwi.com
SUMMARY:NewBridge Meals
DESCRIPTION:NEWBRIDGE’S MISSION IS TO PROVIDE OLDER ADULTS A BRIDGE TO SUCCESSFUL AGING. TO ENSURE LONGER\, HEALTHIER\, AND SAFER INDEPENDENT LIVES\, NEWBRIDGE PROVIDES A VARIETY OF SERVICES AND ACTIVITIES FOR OLDER ADULTS. OUR SERVICES ARE FREE DEPENDING ON YOUR INCOME.
URL:https://gslcwi.com/event/new-bridge-meals-119/
LOCATION:Madison Kitchen; Madison Peterson Hall
CATEGORIES:External Group
END:VEVENT
BEGIN:VEVENT
DTSTART;TZID=America/Chicago:20230602T093000
DTEND;TZID=America/Chicago:20230602T130000
DTSTAMP:20260420T112547
CREATED:20230504T015152Z
LAST-MODIFIED:20230531T214929Z
UID:10013589-1685698200-1685710800@gslcwi.com
SUMMARY:NewBridge Meals
DESCRIPTION:NEWBRIDGE’S MISSION IS TO PROVIDE OLDER ADULTS A BRIDGE TO SUCCESSFUL AGING. TO ENSURE LONGER\, HEALTHIER\, AND SAFER INDEPENDENT LIVES\, NEWBRIDGE PROVIDES A VARIETY OF SERVICES AND ACTIVITIES FOR OLDER ADULTS. OUR SERVICES ARE FREE DEPENDING ON YOUR INCOME.
URL:https://gslcwi.com/event/new-bridge-meals-116/
LOCATION:Madison Kitchen; Madison Peterson Hall
CATEGORIES:External Group
END:VEVENT
BEGIN:VEVENT
DTSTART;TZID=America/Chicago:20230526T093000
DTEND;TZID=America/Chicago:20230526T130000
DTSTAMP:20260420T112547
CREATED:20230427T014157Z
LAST-MODIFIED:20230524T213452Z
UID:10013531-1685093400-1685106000@gslcwi.com
SUMMARY:NewBridge Meals
DESCRIPTION:NEWBRIDGE’S MISSION IS TO PROVIDE OLDER ADULTS A BRIDGE TO SUCCESSFUL AGING. TO ENSURE LONGER\, HEALTHIER\, AND SAFER INDEPENDENT LIVES\, NEWBRIDGE PROVIDES A VARIETY OF SERVICES AND ACTIVITIES FOR OLDER ADULTS. OUR SERVICES ARE FREE DEPENDING ON YOUR INCOME.
URL:https://gslcwi.com/event/new-bridge-meals-115/
LOCATION:Madison Kitchen; Madison Peterson Hall
CATEGORIES:External Group
END:VEVENT
BEGIN:VEVENT
DTSTART;TZID=America/Chicago:20230519T093000
DTEND;TZID=America/Chicago:20230519T130000
DTSTAMP:20260420T112547
CREATED:20230419T214827Z
LAST-MODIFIED:20230517T213051Z
UID:10013459-1684488600-1684501200@gslcwi.com
SUMMARY:NewBridge Meals
DESCRIPTION:NEWBRIDGE’S MISSION IS TO PROVIDE OLDER ADULTS A BRIDGE TO SUCCESSFUL AGING. TO ENSURE LONGER\, HEALTHIER\, AND SAFER INDEPENDENT LIVES\, NEWBRIDGE PROVIDES A VARIETY OF SERVICES AND ACTIVITIES FOR OLDER ADULTS. OUR SERVICES ARE FREE DEPENDING ON YOUR INCOME
URL:https://gslcwi.com/event/new-bridge-meals-114/
LOCATION:Madison Kitchen; Madison Peterson Hall
CATEGORIES:External Group
END:VEVENT
BEGIN:VEVENT
DTSTART;TZID=America/Chicago:20230512T093000
DTEND;TZID=America/Chicago:20230512T130000
DTSTAMP:20260420T112547
CREATED:20230419T205633Z
LAST-MODIFIED:20230510T213033Z
UID:10013424-1683883800-1683896400@gslcwi.com
SUMMARY:NewBridge Meals
DESCRIPTION:NEWBRIDGE’S MISSION IS TO PROVIDE OLDER ADULTS A BRIDGE TO SUCCESSFUL AGING. TO ENSURE LONGER\, HEALTHIER\, AND SAFER INDEPENDENT LIVES\, NEWBRIDGE PROVIDES A VARIETY OF SERVICES AND ACTIVITIES FOR OLDER ADULTS. OUR SERVICES ARE FREE DEPENDING ON YOUR INCOME.
URL:https://gslcwi.com/event/new-bridge-meals-113/
LOCATION:Madison Kitchen; Madison Peterson Hall
CATEGORIES:External Group
END:VEVENT
END:VCALENDAR