BEGIN:VCALENDAR
VERSION:2.0
PRODID:-//Good Shepherd Lutheran Church - ECPv6.15.20//NONSGML v1.0//EN
CALSCALE:GREGORIAN
METHOD:PUBLISH
X-WR-CALNAME:Good Shepherd Lutheran Church
X-ORIGINAL-URL:https://gslcwi.com
X-WR-CALDESC:Events for Good Shepherd Lutheran Church
REFRESH-INTERVAL;VALUE=DURATION:PT1H
X-Robots-Tag:noindex
X-PUBLISHED-TTL:PT1H
BEGIN:VTIMEZONE
TZID:America/Chicago
BEGIN:DAYLIGHT
TZOFFSETFROM:-0600
TZOFFSETTO:-0500
TZNAME:CDT
DTSTART:20210314T080000
END:DAYLIGHT
BEGIN:STANDARD
TZOFFSETFROM:-0500
TZOFFSETTO:-0600
TZNAME:CST
DTSTART:20211107T070000
END:STANDARD
BEGIN:DAYLIGHT
TZOFFSETFROM:-0600
TZOFFSETTO:-0500
TZNAME:CDT
DTSTART:20220313T080000
END:DAYLIGHT
BEGIN:STANDARD
TZOFFSETFROM:-0500
TZOFFSETTO:-0600
TZNAME:CST
DTSTART:20221106T070000
END:STANDARD
BEGIN:DAYLIGHT
TZOFFSETFROM:-0600
TZOFFSETTO:-0500
TZNAME:CDT
DTSTART:20230312T080000
END:DAYLIGHT
BEGIN:STANDARD
TZOFFSETFROM:-0500
TZOFFSETTO:-0600
TZNAME:CST
DTSTART:20231105T070000
END:STANDARD
END:VTIMEZONE
BEGIN:VEVENT
DTSTART;TZID=America/Chicago:20220328T100000
DTEND;TZID=America/Chicago:20220328T120000
DTSTAMP:20260420T174403
CREATED:20220223T223932Z
LAST-MODIFIED:20220223T223932Z
UID:10008782-1648461600-1648468800@gslcwi.com
SUMMARY:Playgroup
DESCRIPTION:
URL:https://gslcwi.com/event/playgroup-23/
LOCATION:Madison Little Blessings Preschool
END:VEVENT
BEGIN:VEVENT
DTSTART;TZID=America/Chicago:20220321T100000
DTEND;TZID=America/Chicago:20220321T120000
DTSTAMP:20260420T174403
CREATED:20220223T223827Z
LAST-MODIFIED:20220223T223827Z
UID:10008719-1647856800-1647864000@gslcwi.com
SUMMARY:Playgroup
DESCRIPTION:
URL:https://gslcwi.com/event/playgroup-22/
LOCATION:Madison Little Blessings Preschool
END:VEVENT
BEGIN:VEVENT
DTSTART;TZID=America/Chicago:20220314T100000
DTEND;TZID=America/Chicago:20220314T120000
DTSTAMP:20260420T174403
CREATED:20220223T223643Z
LAST-MODIFIED:20220302T102512Z
UID:10008688-1647252000-1647259200@gslcwi.com
SUMMARY:Playgroup
DESCRIPTION:
URL:https://gslcwi.com/event/playgroup-21/
LOCATION:Madison Little Blessings Preschool
END:VEVENT
BEGIN:VEVENT
DTSTART;TZID=America/Chicago:20220307T100000
DTEND;TZID=America/Chicago:20220307T120000
DTSTAMP:20260420T174403
CREATED:20220223T223517Z
LAST-MODIFIED:20220302T102502Z
UID:10008645-1646647200-1646654400@gslcwi.com
SUMMARY:Playgroup
DESCRIPTION:
URL:https://gslcwi.com/event/playgroup-20/
LOCATION:Madison Little Blessings Preschool
END:VEVENT
BEGIN:VEVENT
DTSTART;TZID=America/Chicago:20220228T100000
DTEND;TZID=America/Chicago:20220228T120000
DTSTAMP:20260420T174403
CREATED:20220126T024852Z
LAST-MODIFIED:20220223T223338Z
UID:10008568-1646042400-1646049600@gslcwi.com
SUMMARY:Playgroup
DESCRIPTION:
URL:https://gslcwi.com/event/playgroup-19/
LOCATION:Madison Little Blessings Preschool
END:VEVENT
BEGIN:VEVENT
DTSTART;TZID=America/Chicago:20220221T100000
DTEND;TZID=America/Chicago:20220221T120000
DTSTAMP:20260420T174403
CREATED:20220120T001521Z
LAST-MODIFIED:20220128T204349Z
UID:10008529-1645437600-1645444800@gslcwi.com
SUMMARY:Playgroup
DESCRIPTION:
URL:https://gslcwi.com/event/playgroup-18/
LOCATION:Madison Little Blessings Preschool
END:VEVENT
BEGIN:VEVENT
DTSTART;TZID=America/Chicago:20220214T100000
DTEND;TZID=America/Chicago:20220214T120000
DTSTAMP:20260420T174403
CREATED:20220113T234812Z
LAST-MODIFIED:20220201T102451Z
UID:10008482-1644832800-1644840000@gslcwi.com
SUMMARY:Playgroup
DESCRIPTION:
URL:https://gslcwi.com/event/playgroup-17/
LOCATION:Madison Little Blessings Preschool
END:VEVENT
BEGIN:VEVENT
DTSTART;TZID=America/Chicago:20220207T100000
DTEND;TZID=America/Chicago:20220207T120000
DTSTAMP:20260420T174403
CREATED:20220113T202925Z
LAST-MODIFIED:20220203T091456Z
UID:10008441-1644228000-1644235200@gslcwi.com
SUMMARY:Playgroup
DESCRIPTION:
URL:https://gslcwi.com/event/playgroup-16/
LOCATION:Madison Little Blessings Preschool
END:VEVENT
BEGIN:VEVENT
DTSTART;TZID=America/Chicago:20220131T100000
DTEND;TZID=America/Chicago:20220131T120000
DTSTAMP:20260420T174403
CREATED:20220102T024920Z
LAST-MODIFIED:20220131T125618Z
UID:10008389-1643623200-1643630400@gslcwi.com
SUMMARY:Playgroup
DESCRIPTION:
URL:https://gslcwi.com/event/playgroup-15/
LOCATION:Madison Little Blessings Preschool
END:VEVENT
BEGIN:VEVENT
DTSTART;TZID=America/Chicago:20220124T100000
DTEND;TZID=America/Chicago:20220124T120000
DTSTAMP:20260420T174403
CREATED:20220101T234505Z
LAST-MODIFIED:20220123T102411Z
UID:10008354-1643018400-1643025600@gslcwi.com
SUMMARY:Playgroup
DESCRIPTION:
URL:https://gslcwi.com/event/playgroup-14/
LOCATION:Madison Little Blessings Preschool
END:VEVENT
BEGIN:VEVENT
DTSTART;TZID=America/Chicago:20220117T100000
DTEND;TZID=America/Chicago:20220117T120000
DTSTAMP:20260420T174403
CREATED:20211209T035433Z
LAST-MODIFIED:20220115T173739Z
UID:10008146-1642413600-1642420800@gslcwi.com
SUMMARY:Playgroup
DESCRIPTION:
URL:https://gslcwi.com/event/playgroup-13/
LOCATION:Madison Little Blessings Preschool
END:VEVENT
BEGIN:VEVENT
DTSTART;TZID=America/Chicago:20220110T100000
DTEND;TZID=America/Chicago:20220110T120000
DTSTAMP:20260420T174403
CREATED:20211209T011657Z
LAST-MODIFIED:20220110T095415Z
UID:10008118-1641808800-1641816000@gslcwi.com
SUMMARY:Playgroup
DESCRIPTION:
URL:https://gslcwi.com/event/playgroup-12/
LOCATION:Madison Little Blessings Preschool
END:VEVENT
BEGIN:VEVENT
DTSTART;TZID=America/Chicago:20220103T100000
DTEND;TZID=America/Chicago:20220103T120000
DTSTAMP:20260420T174403
CREATED:20211202T234109Z
LAST-MODIFIED:20220101T203801Z
UID:10007947-1641204000-1641211200@gslcwi.com
SUMMARY:Playgroup
DESCRIPTION:
URL:https://gslcwi.com/event/playgroup-11/
LOCATION:Madison Little Blessings Preschool
END:VEVENT
END:VCALENDAR