BEGIN:VCALENDAR
VERSION:2.0
PRODID:-//Good Shepherd Lutheran Church - ECPv6.15.20//NONSGML v1.0//EN
CALSCALE:GREGORIAN
METHOD:PUBLISH
X-WR-CALNAME:Good Shepherd Lutheran Church
X-ORIGINAL-URL:https://gslcwi.com
X-WR-CALDESC:Events for Good Shepherd Lutheran Church
REFRESH-INTERVAL;VALUE=DURATION:PT1H
X-Robots-Tag:noindex
X-PUBLISHED-TTL:PT1H
BEGIN:VTIMEZONE
TZID:America/Chicago
BEGIN:DAYLIGHT
TZOFFSETFROM:-0600
TZOFFSETTO:-0500
TZNAME:CDT
DTSTART:20210314T080000
END:DAYLIGHT
BEGIN:STANDARD
TZOFFSETFROM:-0500
TZOFFSETTO:-0600
TZNAME:CST
DTSTART:20211107T070000
END:STANDARD
BEGIN:DAYLIGHT
TZOFFSETFROM:-0600
TZOFFSETTO:-0500
TZNAME:CDT
DTSTART:20220313T080000
END:DAYLIGHT
BEGIN:STANDARD
TZOFFSETFROM:-0500
TZOFFSETTO:-0600
TZNAME:CST
DTSTART:20221106T070000
END:STANDARD
BEGIN:DAYLIGHT
TZOFFSETFROM:-0600
TZOFFSETTO:-0500
TZNAME:CDT
DTSTART:20230312T080000
END:DAYLIGHT
BEGIN:STANDARD
TZOFFSETFROM:-0500
TZOFFSETTO:-0600
TZNAME:CST
DTSTART:20231105T070000
END:STANDARD
BEGIN:DAYLIGHT
TZOFFSETFROM:-0600
TZOFFSETTO:-0500
TZNAME:CDT
DTSTART:20240310T080000
END:DAYLIGHT
BEGIN:STANDARD
TZOFFSETFROM:-0500
TZOFFSETTO:-0600
TZNAME:CST
DTSTART:20241103T070000
END:STANDARD
BEGIN:DAYLIGHT
TZOFFSETFROM:-0600
TZOFFSETTO:-0500
TZNAME:CDT
DTSTART:20250309T080000
END:DAYLIGHT
BEGIN:STANDARD
TZOFFSETFROM:-0500
TZOFFSETTO:-0600
TZNAME:CST
DTSTART:20251102T070000
END:STANDARD
BEGIN:DAYLIGHT
TZOFFSETFROM:-0600
TZOFFSETTO:-0500
TZNAME:CDT
DTSTART:20260308T080000
END:DAYLIGHT
BEGIN:STANDARD
TZOFFSETFROM:-0500
TZOFFSETTO:-0600
TZNAME:CST
DTSTART:20261101T070000
END:STANDARD
END:VTIMEZONE
BEGIN:VEVENT
DTSTART;TZID=America/Chicago:20251127T110000
DTEND;TZID=America/Chicago:20251127T130000
DTSTAMP:20260420T171441
CREATED:20251025T154350Z
LAST-MODIFIED:20251122T115323Z
UID:10023887-1764241200-1764248400@gslcwi.com
SUMMARY:Community Meal
DESCRIPTION:
URL:https://gslcwi.com/event/community-meal-10/
LOCATION:Madison Lobby; Madison Peterson Hall
END:VEVENT
BEGIN:VEVENT
DTSTART;TZID=America/Chicago:20251126T200000
DTEND;TZID=America/Chicago:20251126T213000
DTSTAMP:20260420T171441
CREATED:20251025T154350Z
LAST-MODIFIED:20251122T115323Z
UID:10023886-1764187200-1764192600@gslcwi.com
SUMMARY:Pie Social
DESCRIPTION:
URL:https://gslcwi.com/event/pie-social/
LOCATION:Madison Lobby; Madison Peterson Hall
END:VEVENT
BEGIN:VEVENT
DTSTART;TZID=America/Chicago:20250117T150000
DTEND;TZID=America/Chicago:20250117T170000
DTSTAMP:20260420T171441
CREATED:20250109T224552Z
LAST-MODIFIED:20250116T215135Z
UID:10022051-1737126000-1737133200@gslcwi.com
SUMMARY:Caldwell Funeral Reception
DESCRIPTION:Pr. Sheryl
URL:https://gslcwi.com/event/caldwell-funeral-reception/
LOCATION:Madison Lobby; Madison Peterson Hall
END:VEVENT
BEGIN:VEVENT
DTSTART;TZID=America/Chicago:20241128T110000
DTEND;TZID=America/Chicago:20241128T130000
DTSTAMP:20260420T171441
CREATED:20241025T015839Z
LAST-MODIFIED:20241121T222205Z
UID:10021511-1732791600-1732798800@gslcwi.com
SUMMARY:Thanksgiving Community Meal
DESCRIPTION:Rick Thomas
URL:https://gslcwi.com/event/thanksgiving-community-meal/
LOCATION:Madison Lobby; Madison Peterson Hall
END:VEVENT
BEGIN:VEVENT
DTSTART;TZID=America/Chicago:20241105T060000
DTEND;TZID=America/Chicago:20241105T230000
DTSTAMP:20260420T171441
CREATED:20240927T015342Z
LAST-MODIFIED:20241031T213219Z
UID:10021370-1730786400-1730847600@gslcwi.com
SUMMARY:Election / Polling
DESCRIPTION:
URL:https://gslcwi.com/event/election-polling/
LOCATION:Madison Lobby; Madison Peterson Hall
END:VEVENT
BEGIN:VEVENT
DTSTART;TZID=America/Chicago:20230204T080000
DTEND;TZID=America/Chicago:20230204T160000
DTSTAMP:20260420T171441
CREATED:20230124T194711Z
LAST-MODIFIED:20230124T194711Z
UID:10011959-1675497600-1675526400@gslcwi.com
SUMMARY:Enneagram
DESCRIPTION:
URL:https://gslcwi.com/event/enneagram/
LOCATION:Madison Lobby; Madison Peterson Hall
END:VEVENT
BEGIN:VEVENT
DTSTART;TZID=America/Chicago:20220319T090000
DTEND;TZID=America/Chicago:20220319T120000
DTSTAMP:20260420T171441
CREATED:20220223T223805Z
LAST-MODIFIED:20220223T223805Z
UID:10008734-1647680400-1647691200@gslcwi.com
SUMMARY:Scouting for Food
DESCRIPTION:
URL:https://gslcwi.com/event/scouting-for-food/
LOCATION:Madison Lobby; Madison Peterson Hall
END:VEVENT
END:VCALENDAR