BEGIN:VCALENDAR
VERSION:2.0
PRODID:-//Good Shepherd Lutheran Church - ECPv6.15.20//NONSGML v1.0//EN
CALSCALE:GREGORIAN
METHOD:PUBLISH
X-WR-CALNAME:Good Shepherd Lutheran Church
X-ORIGINAL-URL:https://gslcwi.com
X-WR-CALDESC:Events for Good Shepherd Lutheran Church
REFRESH-INTERVAL;VALUE=DURATION:PT1H
X-Robots-Tag:noindex
X-PUBLISHED-TTL:PT1H
BEGIN:VTIMEZONE
TZID:America/Chicago
BEGIN:DAYLIGHT
TZOFFSETFROM:-0600
TZOFFSETTO:-0500
TZNAME:CDT
DTSTART:20210314T080000
END:DAYLIGHT
BEGIN:STANDARD
TZOFFSETFROM:-0500
TZOFFSETTO:-0600
TZNAME:CST
DTSTART:20211107T070000
END:STANDARD
BEGIN:DAYLIGHT
TZOFFSETFROM:-0600
TZOFFSETTO:-0500
TZNAME:CDT
DTSTART:20220313T080000
END:DAYLIGHT
BEGIN:STANDARD
TZOFFSETFROM:-0500
TZOFFSETTO:-0600
TZNAME:CST
DTSTART:20221106T070000
END:STANDARD
BEGIN:DAYLIGHT
TZOFFSETFROM:-0600
TZOFFSETTO:-0500
TZNAME:CDT
DTSTART:20230312T080000
END:DAYLIGHT
BEGIN:STANDARD
TZOFFSETFROM:-0500
TZOFFSETTO:-0600
TZNAME:CST
DTSTART:20231105T070000
END:STANDARD
END:VTIMEZONE
BEGIN:VEVENT
DTSTART;TZID=America/Chicago:20221002T123000
DTEND;TZID=America/Chicago:20221002T153000
DTSTAMP:20260421T215730
CREATED:20220928T110005Z
LAST-MODIFIED:20220928T110005Z
UID:10010191-1664713800-1664724600@gslcwi.com
SUMMARY:Recital
DESCRIPTION:
URL:https://gslcwi.com/event/recital-5/
LOCATION:Madison Lobby; Madison Sanctuary
END:VEVENT
BEGIN:VEVENT
DTSTART;TZID=America/Chicago:20220925T123000
DTEND;TZID=America/Chicago:20220925T153000
DTSTAMP:20260421T215730
CREATED:20220909T140656Z
LAST-MODIFIED:20220925T214108Z
UID:10009859-1664109000-1664119800@gslcwi.com
SUMMARY:Recital
DESCRIPTION:
URL:https://gslcwi.com/event/recital/
LOCATION:Madison Lobby; Madison Sanctuary
END:VEVENT
BEGIN:VEVENT
DTSTART;TZID=America/Chicago:20220626T160000
DTEND;TZID=America/Chicago:20220626T210000
DTSTAMP:20260421T215730
CREATED:20220626T071718Z
LAST-MODIFIED:20220626T071718Z
UID:10009427-1656259200-1656277200@gslcwi.com
SUMMARY:Iglesia evangelica el remanente
DESCRIPTION:
URL:https://gslcwi.com/event/iglesia-evangelica-el-remanente-45/
LOCATION:Madison Lobby; Madison Sanctuary
END:VEVENT
BEGIN:VEVENT
DTSTART;TZID=America/Chicago:20220625T160000
DTEND;TZID=America/Chicago:20220625T210000
DTSTAMP:20260421T215730
CREATED:20220624T050731Z
LAST-MODIFIED:20220625T062508Z
UID:10009423-1656172800-1656190800@gslcwi.com
SUMMARY:Iglesia evangelica el remanente
DESCRIPTION:
URL:https://gslcwi.com/event/iglesia-evangelica-el-remanente-43/
LOCATION:Madison Lobby; Madison Sanctuary
END:VEVENT
BEGIN:VEVENT
DTSTART;TZID=America/Chicago:20220528T120000
DTEND;TZID=America/Chicago:20220528T150000
DTSTAMP:20260421T215730
CREATED:20220419T140517Z
LAST-MODIFIED:20220419T142138Z
UID:10009019-1653739200-1653750000@gslcwi.com
SUMMARY:Quinceañera Mass
DESCRIPTION:
URL:https://gslcwi.com/event/quinceanera-mass/
LOCATION:Madison Lobby; Madison Sanctuary
END:VEVENT
BEGIN:VEVENT
DTSTART;TZID=America/Chicago:20220507T150000
DTEND;TZID=America/Chicago:20220507T180000
DTSTAMP:20260421T215730
CREATED:20220419T140404Z
LAST-MODIFIED:20220419T141827Z
UID:10008935-1651935600-1651946400@gslcwi.com
SUMMARY:Flute Recital
DESCRIPTION:
URL:https://gslcwi.com/event/flute-recital/
LOCATION:Madison Lobby; Madison Sanctuary
END:VEVENT
END:VCALENDAR