BEGIN:VCALENDAR
VERSION:2.0
PRODID:-//Good Shepherd Lutheran Church - ECPv6.15.20//NONSGML v1.0//EN
CALSCALE:GREGORIAN
METHOD:PUBLISH
X-WR-CALNAME:Good Shepherd Lutheran Church
X-ORIGINAL-URL:https://gslcwi.com
X-WR-CALDESC:Events for Good Shepherd Lutheran Church
REFRESH-INTERVAL;VALUE=DURATION:PT1H
X-Robots-Tag:noindex
X-PUBLISHED-TTL:PT1H
BEGIN:VTIMEZONE
TZID:America/Chicago
BEGIN:DAYLIGHT
TZOFFSETFROM:-0600
TZOFFSETTO:-0500
TZNAME:CDT
DTSTART:20230312T080000
END:DAYLIGHT
BEGIN:STANDARD
TZOFFSETFROM:-0500
TZOFFSETTO:-0600
TZNAME:CST
DTSTART:20231105T070000
END:STANDARD
BEGIN:DAYLIGHT
TZOFFSETFROM:-0600
TZOFFSETTO:-0500
TZNAME:CDT
DTSTART:20240310T080000
END:DAYLIGHT
BEGIN:STANDARD
TZOFFSETFROM:-0500
TZOFFSETTO:-0600
TZNAME:CST
DTSTART:20241103T070000
END:STANDARD
BEGIN:DAYLIGHT
TZOFFSETFROM:-0600
TZOFFSETTO:-0500
TZNAME:CDT
DTSTART:20250309T080000
END:DAYLIGHT
BEGIN:STANDARD
TZOFFSETFROM:-0500
TZOFFSETTO:-0600
TZNAME:CST
DTSTART:20251102T070000
END:STANDARD
BEGIN:DAYLIGHT
TZOFFSETFROM:-0600
TZOFFSETTO:-0500
TZNAME:CDT
DTSTART:20260308T080000
END:DAYLIGHT
BEGIN:STANDARD
TZOFFSETFROM:-0500
TZOFFSETTO:-0600
TZNAME:CST
DTSTART:20261101T070000
END:STANDARD
END:VTIMEZONE
BEGIN:VEVENT
DTSTART;TZID=America/Chicago:20250301T190000
DTEND;TZID=America/Chicago:20250301T210000
DTSTAMP:20260420T201152
CREATED:20250131T023705Z
LAST-MODIFIED:20250227T223334Z
UID:10022213-1740855600-1740862800@gslcwi.com
SUMMARY:Faith of Christ Church
DESCRIPTION:Gorge Garcia\, gorgegarcia613@yahoo.com\n818-264-6914
URL:https://gslcwi.com/event/faith-of-christ-church-197/
LOCATION:Madison Music Room
END:VEVENT
BEGIN:VEVENT
DTSTART;TZID=America/Chicago:20250226T190000
DTEND;TZID=America/Chicago:20250226T210000
DTSTAMP:20260420T201152
CREATED:20250131T021849Z
LAST-MODIFIED:20250220T230442Z
UID:10022201-1740596400-1740603600@gslcwi.com
SUMMARY:Faith of Christ Church
DESCRIPTION:Gorge Garcia\, gorgegarcia613@yahoo.com\n818-264-6914
URL:https://gslcwi.com/event/faith-of-christ-church-196/
LOCATION:Madison Music Room
END:VEVENT
BEGIN:VEVENT
DTSTART;TZID=America/Chicago:20250222T190000
DTEND;TZID=America/Chicago:20250222T210000
DTSTAMP:20260420T201152
CREATED:20250124T024606Z
LAST-MODIFIED:20250220T221512Z
UID:10022166-1740250800-1740258000@gslcwi.com
SUMMARY:Faith of Christ Church
DESCRIPTION:Gorge Garcia\, gorgegarcia613@yahoo.com\n818-264-6914
URL:https://gslcwi.com/event/faith-of-christ-church-195/
LOCATION:Madison Music Room
END:VEVENT
BEGIN:VEVENT
DTSTART;TZID=America/Chicago:20250219T190000
DTEND;TZID=America/Chicago:20250219T210000
DTSTAMP:20260420T201152
CREATED:20250124T021619Z
LAST-MODIFIED:20250213T224942Z
UID:10022154-1739991600-1739998800@gslcwi.com
SUMMARY:Faith of Christ Church
DESCRIPTION:Gorge Garcia\, gorgegarcia613@yahoo.com\n818-264-6914
URL:https://gslcwi.com/event/faith-of-christ-church-194/
LOCATION:Madison Music Room
END:VEVENT
BEGIN:VEVENT
DTSTART;TZID=America/Chicago:20250215T190000
DTEND;TZID=America/Chicago:20250215T210000
DTSTAMP:20260420T201152
CREATED:20250117T024235Z
LAST-MODIFIED:20250213T220139Z
UID:10022116-1739646000-1739653200@gslcwi.com
SUMMARY:Faith of Christ Church
DESCRIPTION:Gorge Garcia\, gorgegarcia613@yahoo.com\n818-264-6914
URL:https://gslcwi.com/event/faith-of-christ-church-193/
LOCATION:Madison Music Room
END:VEVENT
BEGIN:VEVENT
DTSTART;TZID=America/Chicago:20250212T190000
DTEND;TZID=America/Chicago:20250212T210000
DTSTAMP:20260420T201152
CREATED:20250110T025344Z
LAST-MODIFIED:20250206T230506Z
UID:10022087-1739386800-1739394000@gslcwi.com
SUMMARY:Faith of Christ Church
DESCRIPTION:Gorge Garcia\, gorgegarcia613@yahoo.com\n818-264-6914
URL:https://gslcwi.com/event/faith-of-christ-church-192/
LOCATION:Madison Music Room
END:VEVENT
BEGIN:VEVENT
DTSTART;TZID=America/Chicago:20250208T190000
DTEND;TZID=America/Chicago:20250208T210000
DTSTAMP:20260420T201152
CREATED:20250103T024629Z
LAST-MODIFIED:20250206T221443Z
UID:10022046-1739041200-1739048400@gslcwi.com
SUMMARY:Faith of Christ Church
DESCRIPTION:Gorge Garcia\, gorgegarcia613@yahoo.com\n818-264-6914
URL:https://gslcwi.com/event/faith-of-christ-church-191/
LOCATION:Madison Music Room
END:VEVENT
BEGIN:VEVENT
DTSTART;TZID=America/Chicago:20250205T190000
DTEND;TZID=America/Chicago:20250205T210000
DTSTAMP:20260420T201152
CREATED:20250103T022954Z
LAST-MODIFIED:20250130T225102Z
UID:10022033-1738782000-1738789200@gslcwi.com
SUMMARY:Faith of Christ Church
DESCRIPTION:Gorge Garcia\, gorgegarcia613@yahoo.com\n818-264-6914
URL:https://gslcwi.com/event/faith-of-christ-church-190/
LOCATION:Madison Music Room
END:VEVENT
BEGIN:VEVENT
DTSTART;TZID=America/Chicago:20250201T190000
DTEND;TZID=America/Chicago:20250201T210000
DTSTAMP:20260420T201152
CREATED:20241227T022157Z
LAST-MODIFIED:20250130T214908Z
UID:10021996-1738436400-1738443600@gslcwi.com
SUMMARY:Faith of Christ Church
DESCRIPTION:Gorge Garcia\, gorgegarcia613@yahoo.com\n818-264-6914
URL:https://gslcwi.com/event/faith-of-christ-church-189/
LOCATION:Madison Music Room
END:VEVENT
BEGIN:VEVENT
DTSTART;TZID=America/Chicago:20250129T190000
DTEND;TZID=America/Chicago:20250129T210000
DTSTAMP:20260420T201152
CREATED:20241227T020553Z
LAST-MODIFIED:20250123T223954Z
UID:10021985-1738177200-1738184400@gslcwi.com
SUMMARY:Faith of Christ Church
DESCRIPTION:Gorge Garcia\, gorgegarcia613@yahoo.com\n818-264-6914
URL:https://gslcwi.com/event/faith-of-christ-church-188/
LOCATION:Madison Music Room
END:VEVENT
BEGIN:VEVENT
DTSTART;TZID=America/Chicago:20250125T190000
DTEND;TZID=America/Chicago:20250125T210000
DTSTAMP:20260420T201152
CREATED:20241220T023046Z
LAST-MODIFIED:20250123T215421Z
UID:10021958-1737831600-1737838800@gslcwi.com
SUMMARY:Faith of Christ Church
DESCRIPTION:Gorge Garcia\, gorgegarcia613@yahoo.com\n818-264-6914
URL:https://gslcwi.com/event/faith-of-christ-church-187/
LOCATION:Madison Music Room
END:VEVENT
BEGIN:VEVENT
DTSTART;TZID=America/Chicago:20250122T190000
DTEND;TZID=America/Chicago:20250122T210000
DTSTAMP:20260420T201152
CREATED:20241220T015932Z
LAST-MODIFIED:20250116T223509Z
UID:10021946-1737572400-1737579600@gslcwi.com
SUMMARY:Faith of Christ Church
DESCRIPTION:Gorge Garcia\, gorgegarcia613@yahoo.com\n818-264-6914
URL:https://gslcwi.com/event/faith-of-christ-church-186/
LOCATION:Madison Music Room
END:VEVENT
BEGIN:VEVENT
DTSTART;TZID=America/Chicago:20250118T190000
DTEND;TZID=America/Chicago:20250118T210000
DTSTAMP:20260420T201152
CREATED:20241213T021559Z
LAST-MODIFIED:20250116T220424Z
UID:10021862-1737226800-1737234000@gslcwi.com
SUMMARY:Faith of Christ Church
DESCRIPTION:Gorge Garcia\, gorgegarcia613@yahoo.com\n818-264-6914
URL:https://gslcwi.com/event/faith-of-christ-church-185/
LOCATION:Madison Music Room
END:VEVENT
BEGIN:VEVENT
DTSTART;TZID=America/Chicago:20250115T190000
DTEND;TZID=America/Chicago:20250115T210000
DTSTAMP:20260420T201152
CREATED:20241213T014506Z
LAST-MODIFIED:20250109T222733Z
UID:10021848-1736967600-1736974800@gslcwi.com
SUMMARY:Faith of Christ Church
DESCRIPTION:Gorge Garcia\, gorgegarcia613@yahoo.com\n818-264-6914
URL:https://gslcwi.com/event/faith-of-christ-church-184/
LOCATION:Madison Music Room
END:VEVENT
BEGIN:VEVENT
DTSTART;TZID=America/Chicago:20250111T190000
DTEND;TZID=America/Chicago:20250111T210000
DTSTAMP:20260420T201152
CREATED:20241206T023844Z
LAST-MODIFIED:20250109T213929Z
UID:10021817-1736622000-1736629200@gslcwi.com
SUMMARY:Faith of Christ Church
DESCRIPTION:Gorge Garcia\, gorgegarcia613@yahoo.com\n818-264-6914
URL:https://gslcwi.com/event/faith-of-christ-church-183/
LOCATION:Madison Music Room
END:VEVENT
BEGIN:VEVENT
DTSTART;TZID=America/Chicago:20250108T190000
DTEND;TZID=America/Chicago:20250108T210000
DTSTAMP:20260420T201152
CREATED:20241206T022235Z
LAST-MODIFIED:20250102T222555Z
UID:10021807-1736362800-1736370000@gslcwi.com
SUMMARY:Faith of Christ Church
DESCRIPTION:Gorge Garcia\, gorgegarcia613@yahoo.com\n818-264-6914
URL:https://gslcwi.com/event/faith-of-christ-church-182/
LOCATION:Madison Music Room
END:VEVENT
BEGIN:VEVENT
DTSTART;TZID=America/Chicago:20250104T190000
DTEND;TZID=America/Chicago:20250104T210000
DTSTAMP:20260420T201152
CREATED:20241206T014816Z
LAST-MODIFIED:20250102T213952Z
UID:10021783-1736017200-1736024400@gslcwi.com
SUMMARY:Faith of Christ Church
DESCRIPTION:Gorge Garcia\, gorgegarcia613@yahoo.com\n818-264-6914
URL:https://gslcwi.com/event/faith-of-christ-church-181/
LOCATION:Madison Music Room
END:VEVENT
BEGIN:VEVENT
DTSTART;TZID=America/Chicago:20250101T190000
DTEND;TZID=America/Chicago:20250101T210000
DTSTAMP:20260420T201152
CREATED:20241129T023416Z
LAST-MODIFIED:20241226T220521Z
UID:10021767-1735758000-1735765200@gslcwi.com
SUMMARY:Faith of Christ Church
DESCRIPTION:Gorge Garcia\, gorgegarcia613@yahoo.com\n818-264-6914
URL:https://gslcwi.com/event/faith-of-christ-church-180/
LOCATION:Madison Music Room
END:VEVENT
BEGIN:VEVENT
DTSTART;TZID=America/Chicago:20241229T103000
DTEND;TZID=America/Chicago:20241229T123000
DTSTAMP:20260420T201152
CREATED:20241129T020031Z
LAST-MODIFIED:20241129T020031Z
UID:10021750-1735468200-1735475400@gslcwi.com
SUMMARY:Bhutanese Church Service
DESCRIPTION:prakash rai prakashmrai14@gmail.com
URL:https://gslcwi.com/event/bhutanese-church-service-42/
LOCATION:Madison Music Room
END:VEVENT
BEGIN:VEVENT
DTSTART;TZID=America/Chicago:20241228T190000
DTEND;TZID=America/Chicago:20241228T210000
DTSTAMP:20260420T201152
CREATED:20241129T020030Z
LAST-MODIFIED:20241226T213330Z
UID:10021748-1735412400-1735419600@gslcwi.com
SUMMARY:Faith of Christ Church
DESCRIPTION:Gorge Garcia\, gorgegarcia613@yahoo.com\n818-264-6914
URL:https://gslcwi.com/event/faith-of-christ-church-179/
LOCATION:Madison Music Room
END:VEVENT
BEGIN:VEVENT
DTSTART;TZID=America/Chicago:20241225T190000
DTEND;TZID=America/Chicago:20241225T210000
DTSTAMP:20260420T201152
CREATED:20241129T015846Z
LAST-MODIFIED:20241219T221225Z
UID:10021743-1735153200-1735160400@gslcwi.com
SUMMARY:Faith of Christ Church
DESCRIPTION:Gorge Garcia\, gorgegarcia613@yahoo.com\n818-264-6914
URL:https://gslcwi.com/event/faith-of-christ-church-178/
LOCATION:Madison Music Room
END:VEVENT
BEGIN:VEVENT
DTSTART;TZID=America/Chicago:20241222T103000
DTEND;TZID=America/Chicago:20241222T123000
DTSTAMP:20260420T201152
CREATED:20241122T022215Z
LAST-MODIFIED:20241129T012459Z
UID:10021718-1734863400-1734870600@gslcwi.com
SUMMARY:Bhutanese Church Service
DESCRIPTION:prakash rai prakashmrai14@gmail.com
URL:https://gslcwi.com/event/bhutanese-church-service-41/
LOCATION:Madison Music Room
END:VEVENT
BEGIN:VEVENT
DTSTART;TZID=America/Chicago:20241221T190000
DTEND;TZID=America/Chicago:20241221T210000
DTSTAMP:20260420T201152
CREATED:20241122T022213Z
LAST-MODIFIED:20241219T214007Z
UID:10021715-1734807600-1734814800@gslcwi.com
SUMMARY:Faith of Christ Church
DESCRIPTION:Gorge Garcia\, gorgegarcia613@yahoo.com\n818-264-6914
URL:https://gslcwi.com/event/faith-of-christ-church-177/
LOCATION:Madison Music Room
END:VEVENT
BEGIN:VEVENT
DTSTART;TZID=America/Chicago:20241218T190000
DTEND;TZID=America/Chicago:20241218T210000
DTSTAMP:20260420T201152
CREATED:20241122T015031Z
LAST-MODIFIED:20241212T223049Z
UID:10021700-1734548400-1734555600@gslcwi.com
SUMMARY:Faith of Christ Church
DESCRIPTION:Gorge Garcia\, gorgegarcia613@yahoo.com\n818-264-6914
URL:https://gslcwi.com/event/faith-of-christ-church-176/
LOCATION:Madison Music Room
END:VEVENT
BEGIN:VEVENT
DTSTART;TZID=America/Chicago:20241215T103000
DTEND;TZID=America/Chicago:20241215T123000
DTSTAMP:20260420T201152
CREATED:20241115T022944Z
LAST-MODIFIED:20241129T000618Z
UID:10021663-1734258600-1734265800@gslcwi.com
SUMMARY:Bhutanese Church Service
DESCRIPTION:prakash rai prakashmrai14@gmail.com
URL:https://gslcwi.com/event/bhutanese-church-service-40/
LOCATION:Madison Music Room
END:VEVENT
BEGIN:VEVENT
DTSTART;TZID=America/Chicago:20241214T190000
DTEND;TZID=America/Chicago:20241214T210000
DTSTAMP:20260420T201152
CREATED:20241115T022941Z
LAST-MODIFIED:20241212T214122Z
UID:10021659-1734202800-1734210000@gslcwi.com
SUMMARY:Faith of Christ Church
DESCRIPTION:Gorge Garcia\, gorgegarcia613@yahoo.com\n818-264-6914
URL:https://gslcwi.com/event/faith-of-christ-church-175/
LOCATION:Madison Music Room
END:VEVENT
BEGIN:VEVENT
DTSTART;TZID=America/Chicago:20241211T190000
DTEND;TZID=America/Chicago:20241211T210000
DTSTAMP:20260420T201152
CREATED:20241115T015805Z
LAST-MODIFIED:20241205T222913Z
UID:10021640-1733943600-1733950800@gslcwi.com
SUMMARY:Faith of Christ Church
DESCRIPTION:Gorge Garcia\, gorgegarcia613@yahoo.com\n818-264-6914
URL:https://gslcwi.com/event/faith-of-christ-church-174/
LOCATION:Madison Music Room
END:VEVENT
BEGIN:VEVENT
DTSTART;TZID=America/Chicago:20241208T103000
DTEND;TZID=America/Chicago:20241208T123000
DTSTAMP:20260420T201152
CREATED:20241108T014116Z
LAST-MODIFIED:20241128T224511Z
UID:10021594-1733653800-1733661000@gslcwi.com
SUMMARY:Bhutanese Church Service
DESCRIPTION:prakash rai prakashmrai14@gmail.com
URL:https://gslcwi.com/event/bhutanese-church-service-39/
LOCATION:Madison Music Room
END:VEVENT
BEGIN:VEVENT
DTSTART;TZID=America/Chicago:20241207T190000
DTEND;TZID=America/Chicago:20241207T210000
DTSTAMP:20260420T201152
CREATED:20241108T013710Z
LAST-MODIFIED:20241205T212627Z
UID:10021592-1733598000-1733605200@gslcwi.com
SUMMARY:Faith of Christ Church
DESCRIPTION:Gorge Garcia\, gorgegarcia613@yahoo.com\n818-264-6914
URL:https://gslcwi.com/event/faith-of-christ-church-173/
LOCATION:Madison Music Room
END:VEVENT
BEGIN:VEVENT
DTSTART;TZID=America/Chicago:20241204T190000
DTEND;TZID=America/Chicago:20241204T210000
DTSTAMP:20260420T201152
CREATED:20241101T021347Z
LAST-MODIFIED:20241128T222947Z
UID:10021573-1733338800-1733346000@gslcwi.com
SUMMARY:Faith of Christ Church
DESCRIPTION:Gorge Garcia\, gorgegarcia613@yahoo.com\n818-264-6914
URL:https://gslcwi.com/event/faith-of-christ-church-172/
LOCATION:Madison Music Room
END:VEVENT
END:VCALENDAR