BEGIN:VCALENDAR
VERSION:2.0
PRODID:-//Good Shepherd Lutheran Church - ECPv6.15.20//NONSGML v1.0//EN
CALSCALE:GREGORIAN
METHOD:PUBLISH
X-ORIGINAL-URL:https://gslcwi.com
X-WR-CALDESC:Events for Good Shepherd Lutheran Church
REFRESH-INTERVAL;VALUE=DURATION:PT1H
X-Robots-Tag:noindex
X-PUBLISHED-TTL:PT1H
BEGIN:VTIMEZONE
TZID:America/Chicago
BEGIN:DAYLIGHT
TZOFFSETFROM:-0600
TZOFFSETTO:-0500
TZNAME:CDT
DTSTART:20210314T080000
END:DAYLIGHT
BEGIN:STANDARD
TZOFFSETFROM:-0500
TZOFFSETTO:-0600
TZNAME:CST
DTSTART:20211107T070000
END:STANDARD
BEGIN:DAYLIGHT
TZOFFSETFROM:-0600
TZOFFSETTO:-0500
TZNAME:CDT
DTSTART:20220313T080000
END:DAYLIGHT
BEGIN:STANDARD
TZOFFSETFROM:-0500
TZOFFSETTO:-0600
TZNAME:CST
DTSTART:20221106T070000
END:STANDARD
BEGIN:DAYLIGHT
TZOFFSETFROM:-0600
TZOFFSETTO:-0500
TZNAME:CDT
DTSTART:20230312T080000
END:DAYLIGHT
BEGIN:STANDARD
TZOFFSETFROM:-0500
TZOFFSETTO:-0600
TZNAME:CST
DTSTART:20231105T070000
END:STANDARD
BEGIN:DAYLIGHT
TZOFFSETFROM:-0600
TZOFFSETTO:-0500
TZNAME:CDT
DTSTART:20240310T080000
END:DAYLIGHT
BEGIN:STANDARD
TZOFFSETFROM:-0500
TZOFFSETTO:-0600
TZNAME:CST
DTSTART:20241103T070000
END:STANDARD
BEGIN:DAYLIGHT
TZOFFSETFROM:-0600
TZOFFSETTO:-0500
TZNAME:CDT
DTSTART:20250309T080000
END:DAYLIGHT
BEGIN:STANDARD
TZOFFSETFROM:-0500
TZOFFSETTO:-0600
TZNAME:CST
DTSTART:20251102T070000
END:STANDARD
BEGIN:DAYLIGHT
TZOFFSETFROM:-0600
TZOFFSETTO:-0500
TZNAME:CDT
DTSTART:20260308T080000
END:DAYLIGHT
BEGIN:STANDARD
TZOFFSETFROM:-0500
TZOFFSETTO:-0600
TZNAME:CST
DTSTART:20261101T070000
END:STANDARD
END:VTIMEZONE
BEGIN:VEVENT
DTSTART;VALUE=DATE:20251121
DTEND;VALUE=DATE:20251124
DTSTAMP:20260421T120812
CREATED:20251029T164951Z
LAST-MODIFIED:20251029T171514Z
UID:10023905-1763683200-1763942399@gslcwi.com
SUMMARY:High School Fall Retreat
DESCRIPTION:Looking for an opportunity to reset? Come on our annual HS fall retreat to Sugar Creek Bible Camp! There you will connect others and grow closer to yourself and God. Trip dates are November 21st-23rd. Sign-up below! \nhttps://goodshep.breezechms.com/form/0fcd16
URL:https://gslcwi.com/event/high-school-fall-retreat/
LOCATION:Sugar Creek Bible Camp\, WI\, United States
CATEGORIES:High School
ATTACH;FMTTYPE=image/jpeg:https://gslcwi.com/wp-content/uploads/2025/10/20241123_142554-scaled.jpg
ORGANIZER;CN="Sarah Iverson":MAILTO:siverson@gslcwi.com
END:VEVENT
BEGIN:VEVENT
DTSTART;TZID=America/Chicago:20221118T170000
DTEND;TZID=America/Chicago:20221120T150000
DTSTAMP:20260421T120812
CREATED:20220902T194242Z
LAST-MODIFIED:20220926T151057Z
UID:10009840-1668790800-1668956400@gslcwi.com
SUMMARY:Fall Retreat
DESCRIPTION:Fall Retreat is a great way for high schoolers to connect and deepen relationships with others and with God. We adventure by bus out to Sugar Creek Bible Camp in Ferryville\, WI and spend time in community exploring a theme\, practicing good rest and self-care\, and engaging in the nature around us. Find more details and register here.
URL:https://gslcwi.com/event/fall-retreat-2/
LOCATION:Sugar Creek Bible Camp\, WI\, United States
CATEGORIES:High School
ATTACH;FMTTYPE=image/jpeg:https://gslcwi.com/wp-content/uploads/2021/11/DSC_0087-scaled.jpg
ORGANIZER;CN="Becca Feldhacker":MAILTO:bfeldhacker@gslcwi.com
END:VEVENT
END:VCALENDAR