BEGIN:VCALENDAR
VERSION:2.0
PRODID:-//Good Shepherd Lutheran Church - ECPv6.15.20//NONSGML v1.0//EN
CALSCALE:GREGORIAN
METHOD:PUBLISH
X-ORIGINAL-URL:https://gslcwi.com
X-WR-CALDESC:Events for Good Shepherd Lutheran Church
REFRESH-INTERVAL;VALUE=DURATION:PT1H
X-Robots-Tag:noindex
X-PUBLISHED-TTL:PT1H
BEGIN:VTIMEZONE
TZID:America/Chicago
BEGIN:DAYLIGHT
TZOFFSETFROM:-0600
TZOFFSETTO:-0500
TZNAME:CDT
DTSTART:20250309T080000
END:DAYLIGHT
BEGIN:STANDARD
TZOFFSETFROM:-0500
TZOFFSETTO:-0600
TZNAME:CST
DTSTART:20251102T070000
END:STANDARD
BEGIN:DAYLIGHT
TZOFFSETFROM:-0600
TZOFFSETTO:-0500
TZNAME:CDT
DTSTART:20260308T080000
END:DAYLIGHT
BEGIN:STANDARD
TZOFFSETFROM:-0500
TZOFFSETTO:-0600
TZNAME:CST
DTSTART:20261101T070000
END:STANDARD
BEGIN:DAYLIGHT
TZOFFSETFROM:-0600
TZOFFSETTO:-0500
TZNAME:CDT
DTSTART:20270314T080000
END:DAYLIGHT
BEGIN:STANDARD
TZOFFSETFROM:-0500
TZOFFSETTO:-0600
TZNAME:CST
DTSTART:20271107T070000
END:STANDARD
END:VTIMEZONE
BEGIN:VEVENT
DTSTART;TZID=America/Chicago:20260420T180000
DTEND;TZID=America/Chicago:20260420T200000
DTSTAMP:20260421T012240
CREATED:20260321T152957Z
LAST-MODIFIED:20260418T133413Z
UID:10025589-1776708000-1776715200@gslcwi.com
SUMMARY:Webelos Meeting
DESCRIPTION:Nicole Dederich ndederich83@gmail.com
URL:https://gslcwi.com/event/webelos-meeting-30/
LOCATION:Verona Fellowship Hall
END:VEVENT
BEGIN:VEVENT
DTSTART;TZID=America/Chicago:20260420T100000
DTEND;TZID=America/Chicago:20260420T120000
DTSTAMP:20260421T012240
CREATED:20260328T150958Z
LAST-MODIFIED:20260418T133412Z
UID:10025625-1776679200-1776686400@gslcwi.com
SUMMARY:Quilters
DESCRIPTION:________________________________________________________________________________\nMicrosoft Teams Need help?\nJoin the meeting now\nMeeting ID: 271 936 289 350 0\nPasscode: eG38Cb6X\n________________________________\nFor organizers: Meeting options\n________________________________________________________________________________
URL:https://gslcwi.com/event/quilters-162/
LOCATION:Verona Fellowship Hall
END:VEVENT
BEGIN:VEVENT
DTSTART;TZID=America/Chicago:20260418T130000
DTEND;TZID=America/Chicago:20260418T141500
DTSTAMP:20260421T012240
CREATED:20260411T135651Z
LAST-MODIFIED:20260418T132424Z
UID:10025731-1776517200-1776521700@gslcwi.com
SUMMARY:Youth Meet and Greet
DESCRIPTION:
URL:https://gslcwi.com/event/youth-meet-and-greet/
LOCATION:Verona Fellowship Hall
END:VEVENT
BEGIN:VEVENT
DTSTART;TZID=America/Chicago:20260416T183000
DTEND;TZID=America/Chicago:20260416T200000
DTSTAMP:20260421T012240
CREATED:20260314T155104Z
LAST-MODIFIED:20260411T135244Z
UID:10025566-1776364200-1776369600@gslcwi.com
SUMMARY:Cub Scout Meeting
DESCRIPTION:Brian Ruppert bruppert@gmail.com
URL:https://gslcwi.com/event/cub-scout-meeting-38/
LOCATION:Verona Fellowship Hall
END:VEVENT
BEGIN:VEVENT
DTSTART;TZID=America/Chicago:20260414T183000
DTEND;TZID=America/Chicago:20260414T203000
DTSTAMP:20260421T012240
CREATED:20260314T153633Z
LAST-MODIFIED:20260411T133751Z
UID:10025551-1776191400-1776198600@gslcwi.com
SUMMARY:Boy Scouts
DESCRIPTION:Amy Byrnes – Scout Master ajmbyrnes@yahoo.com\nMatt Watrud – Scout Master watrud@uwalumni.com
URL:https://gslcwi.com/event/boy-scouts-273/
LOCATION:Verona Fellowship Hall
END:VEVENT
BEGIN:VEVENT
DTSTART;TZID=America/Chicago:20260414T100000
DTEND;TZID=America/Chicago:20260414T120000
DTSTAMP:20260421T012240
CREATED:20260328T143610Z
LAST-MODIFIED:20260411T133337Z
UID:10025624-1776160800-1776168000@gslcwi.com
SUMMARY:Quilters
DESCRIPTION:________________________________________________________________________________\nMicrosoft Teams Need help?\nJoin the meeting now\nMeeting ID: 271 936 289 350 0\nPasscode: eG38Cb6X\n________________________________\nFor organizers: Meeting options\n________________________________________________________________________________
URL:https://gslcwi.com/event/quilters-161/
LOCATION:Verona Fellowship Hall
END:VEVENT
BEGIN:VEVENT
DTSTART;TZID=America/Chicago:20260413T173000
DTEND;TZID=America/Chicago:20260413T190000
DTSTAMP:20260421T012240
CREATED:20260314T152725Z
LAST-MODIFIED:20260411T132428Z
UID:10025540-1776101400-1776106800@gslcwi.com
SUMMARY:Girl Scouts
DESCRIPTION:Kim Cleveland 763-300-2363\n________________________________________________________________________________\nMicrosoft Teams Need help?\nJoin the meeting now\nMeeting ID: 228 777 967 663 32\nPasscode: Ks7n2Jj7\n________________________________\nFor organizers: Meeting options\n________________________________________________________________________________
URL:https://gslcwi.com/event/girl-scouts-244/
LOCATION:Verona Fellowship Hall
END:VEVENT
BEGIN:VEVENT
DTSTART;TZID=America/Chicago:20260412T160000
DTEND;TZID=America/Chicago:20260412T173000
DTSTAMP:20260421T012240
CREATED:20260314T151914Z
LAST-MODIFIED:20260328T142253Z
UID:10025530-1776009600-1776015000@gslcwi.com
SUMMARY:Verona 4-H
DESCRIPTION:Laura Smith lsmith@oak.bank
URL:https://gslcwi.com/event/verona-4-h-8/
LOCATION:Verona Fellowship Hall
END:VEVENT
BEGIN:VEVENT
DTSTART;TZID=America/Chicago:20260409T180000
DTEND;TZID=America/Chicago:20260409T190000
DTSTAMP:20260421T012240
CREATED:20260314T150912Z
LAST-MODIFIED:20260404T134554Z
UID:10025520-1775757600-1775761200@gslcwi.com
SUMMARY:Den Meeting
DESCRIPTION:jjbasken@gmail.com  Jeremy Basken
URL:https://gslcwi.com/event/den-meeting-99/
LOCATION:Verona Fellowship Hall
END:VEVENT
BEGIN:VEVENT
DTSTART;TZID=America/Chicago:20260407T183000
DTEND;TZID=America/Chicago:20260407T203000
DTSTAMP:20260421T012240
CREATED:20260314T145036Z
LAST-MODIFIED:20260404T132811Z
UID:10025502-1775586600-1775593800@gslcwi.com
SUMMARY:Boy Scouts
DESCRIPTION:Amy Byrnes – Scout Master ajmbyrnes@yahoo.com\nMatt Watrud – Scout Master watrud@uwalumni.com
URL:https://gslcwi.com/event/boy-scouts-272/
LOCATION:Verona Fellowship Hall
END:VEVENT
BEGIN:VEVENT
DTSTART;TZID=America/Chicago:20260406T081500
DTEND;TZID=America/Chicago:20260406T114500
DTSTAMP:20260421T012240
CREATED:20260404T132328Z
LAST-MODIFIED:20260404T132328Z
UID:10025668-1775463300-1775475900@gslcwi.com
SUMMARY:Preschool
DESCRIPTION:Kelly\n________________________________________________________________________________\nMicrosoft Teams meeting\nJoin: https://teams.microsoft.com/meet/25324283498855?p=g6zDk6Mj6jmUK25rmu\nMeeting ID: 253 242 834 988 55\nPasscode: ao9ez2FD\n________________________________\nNeed help? | System reference\nFor organizers: Meeting options\n________________________________________________________________________________
URL:https://gslcwi.com/event/preschool/
LOCATION:Verona Fellowship Hall
END:VEVENT
BEGIN:VEVENT
DTSTART;TZID=America/Chicago:20260331T183000
DTEND;TZID=America/Chicago:20260331T203000
DTSTAMP:20260421T012240
CREATED:20260228T152856Z
LAST-MODIFIED:20260328T131926Z
UID:10025459-1774981800-1774989000@gslcwi.com
SUMMARY:Boy Scouts
DESCRIPTION:Amy Byrnes – Scout Master ajmbyrnes@yahoo.com\nMatt Watrud – Scout Master watrud@uwalumni.com
URL:https://gslcwi.com/event/boy-scouts-271/
LOCATION:Verona Fellowship Hall
END:VEVENT
BEGIN:VEVENT
DTSTART;TZID=America/Chicago:20260324T183000
DTEND;TZID=America/Chicago:20260324T203000
DTSTAMP:20260421T012240
CREATED:20260221T150148Z
LAST-MODIFIED:20260321T130727Z
UID:10025417-1774377000-1774384200@gslcwi.com
SUMMARY:Boy Scouts
DESCRIPTION:Amy Byrnes – Scout Master ajmbyrnes@yahoo.com\nMatt Watrud – Scout Master watrud@uwalumni.com
URL:https://gslcwi.com/event/boy-scouts-270/
LOCATION:Verona Fellowship Hall
END:VEVENT
BEGIN:VEVENT
DTSTART;TZID=America/Chicago:20260323T173000
DTEND;TZID=America/Chicago:20260323T190000
DTSTAMP:20260421T012240
CREATED:20260221T145343Z
LAST-MODIFIED:20260321T130245Z
UID:10025409-1774287000-1774292400@gslcwi.com
SUMMARY:Girl Scouts
DESCRIPTION:Kim Cleveland 763-300-2363\n________________________________________________________________________________\nMicrosoft Teams Need help?\nJoin the meeting now\nMeeting ID: 299 791 989 031 61\nPasscode: mo9uD3Lg\n________________________________\nFor organizers: Meeting options\n________________________________________________________________________________
URL:https://gslcwi.com/event/girl-scouts-237/
LOCATION:Verona Fellowship Hall
END:VEVENT
BEGIN:VEVENT
DTSTART;TZID=America/Chicago:20260319T183000
DTEND;TZID=America/Chicago:20260319T200000
DTSTAMP:20260421T012240
CREATED:20260221T144138Z
LAST-MODIFIED:20260314T131917Z
UID:10025395-1773945000-1773950400@gslcwi.com
SUMMARY:Cub Scout Meeting
DESCRIPTION:Brian Ruppert bruppert@gmail.com
URL:https://gslcwi.com/event/cub-scout-meeting-37/
LOCATION:Verona Fellowship Hall
END:VEVENT
BEGIN:VEVENT
DTSTART;TZID=America/Chicago:20260317T183000
DTEND;TZID=America/Chicago:20260317T203000
DTSTAMP:20260421T012240
CREATED:20260214T150337Z
LAST-MODIFIED:20260314T130611Z
UID:10025376-1773772200-1773779400@gslcwi.com
SUMMARY:Boy Scouts
DESCRIPTION:Amy Byrnes – Scout Master ajmbyrnes@yahoo.com\nMatt Watrud – Scout Master watrud@uwalumni.com
URL:https://gslcwi.com/event/boy-scouts-269/
LOCATION:Verona Fellowship Hall
END:VEVENT
BEGIN:VEVENT
DTSTART;TZID=America/Chicago:20260316T180000
DTEND;TZID=America/Chicago:20260316T200000
DTSTAMP:20260421T012240
CREATED:20260214T145931Z
LAST-MODIFIED:20260314T130210Z
UID:10025371-1773684000-1773691200@gslcwi.com
SUMMARY:Webelos Meeting
DESCRIPTION:Nicole Dederich ndederich83@gmail.com
URL:https://gslcwi.com/event/webelos-meeting-27/
LOCATION:Verona Fellowship Hall
END:VEVENT
BEGIN:VEVENT
DTSTART;TZID=America/Chicago:20260316T100000
DTEND;TZID=America/Chicago:20260316T120000
DTSTAMP:20260421T012240
CREATED:20260214T145928Z
LAST-MODIFIED:20260314T125651Z
UID:10025368-1773655200-1773662400@gslcwi.com
SUMMARY:Quilters
DESCRIPTION:________________________________________________________________________________\nMicrosoft Teams Need help?\nJoin the meeting now\nMeeting ID: 271 936 289 350 0\nPasscode: eG38Cb6X\n________________________________\nFor organizers: Meeting options\n________________________________________________________________________________
URL:https://gslcwi.com/event/quilters-160/
LOCATION:Verona Fellowship Hall
END:VEVENT
BEGIN:VEVENT
DTSTART;TZID=America/Chicago:20260315T190000
DTEND;TZID=America/Chicago:20260315T200000
DTSTAMP:20260421T012240
CREATED:20260314T125650Z
LAST-MODIFIED:20260314T125650Z
UID:10025484-1773601200-1773604800@gslcwi.com
SUMMARY:Congregational Life Conversations
DESCRIPTION:________________________________________________________________________________\nMicrosoft Teams Need help?\nJoin the meeting now\nMeeting ID: 227 181 650 872 23\nPasscode: DH95rX9v\n________________________________\nFor organizers: Meeting options\n________________________________________________________________________________
URL:https://gslcwi.com/event/congregational-life-conversations-9/
LOCATION:Verona Fellowship Hall
END:VEVENT
BEGIN:VEVENT
DTSTART;TZID=America/Chicago:20260315T110000
DTEND;TZID=America/Chicago:20260315T120000
DTSTAMP:20260421T012240
CREATED:20260214T145519Z
LAST-MODIFIED:20260314T124708Z
UID:10025364-1773572400-1773576000@gslcwi.com
SUMMARY:Congregational Life Conversations
DESCRIPTION:________________________________________________________________________________\nMicrosoft Teams Need help?\nJoin the meeting now\nMeeting ID: 227 181 650 872 23\nPasscode: DH95rX9v\n________________________________\nFor organizers: Meeting options\n________________________________________________________________________________
URL:https://gslcwi.com/event/congregational-life-conversations-8/
LOCATION:Verona Fellowship Hall
END:VEVENT
BEGIN:VEVENT
DTSTART;TZID=America/Chicago:20260312T180000
DTEND;TZID=America/Chicago:20260312T190000
DTSTAMP:20260421T012240
CREATED:20260214T144719Z
LAST-MODIFIED:20260307T132645Z
UID:10025353-1773338400-1773342000@gslcwi.com
SUMMARY:Den Meeting
DESCRIPTION:jjbasken@gmail.com  Jeremy Basken
URL:https://gslcwi.com/event/den-meeting-97/
LOCATION:Verona Fellowship Hall
END:VEVENT
BEGIN:VEVENT
DTSTART;TZID=America/Chicago:20260310T183000
DTEND;TZID=America/Chicago:20260310T203000
DTSTAMP:20260421T012240
CREATED:20260214T143449Z
LAST-MODIFIED:20260307T131654Z
UID:10025340-1773167400-1773174600@gslcwi.com
SUMMARY:Boy Scouts
DESCRIPTION:Amy Byrnes – Scout Master ajmbyrnes@yahoo.com\nMatt Watrud – Scout Master watrud@uwalumni.com
URL:https://gslcwi.com/event/boy-scouts-268/
LOCATION:Verona Fellowship Hall
END:VEVENT
BEGIN:VEVENT
DTSTART;TZID=America/Chicago:20260310T100000
DTEND;TZID=America/Chicago:20260310T120000
DTSTAMP:20260421T012240
CREATED:20260207T172328Z
LAST-MODIFIED:20260307T131157Z
UID:10025327-1773136800-1773144000@gslcwi.com
SUMMARY:Quilters
DESCRIPTION:________________________________________________________________________________\nMicrosoft Teams Need help?\nJoin the meeting now\nMeeting ID: 271 936 289 350 0\nPasscode: eG38Cb6X\n________________________________\nFor organizers: Meeting options\n________________________________________________________________________________
URL:https://gslcwi.com/event/quilters-159/
LOCATION:Verona Fellowship Hall
END:VEVENT
BEGIN:VEVENT
DTSTART;TZID=America/Chicago:20260309T173000
DTEND;TZID=America/Chicago:20260309T190000
DTSTAMP:20260421T012240
CREATED:20260207T172327Z
LAST-MODIFIED:20260307T130709Z
UID:10025325-1773077400-1773082800@gslcwi.com
SUMMARY:Girl Scouts
DESCRIPTION:Kim Cleveland 763-300-2363\n________________________________________________________________________________\nMicrosoft Teams Need help?\nJoin the meeting now\nMeeting ID: 228 777 967 663 32\nPasscode: Ks7n2Jj7\n________________________________\nFor organizers: Meeting options\n________________________________________________________________________________
URL:https://gslcwi.com/event/girl-scouts-233/
LOCATION:Verona Fellowship Hall
END:VEVENT
BEGIN:VEVENT
DTSTART;TZID=America/Chicago:20260308T160000
DTEND;TZID=America/Chicago:20260308T173000
DTSTAMP:20260421T012240
CREATED:20260207T170823Z
LAST-MODIFIED:20260307T125252Z
UID:10025315-1772985600-1772991000@gslcwi.com
SUMMARY:Verona 4-H
DESCRIPTION:Laura Smith lsmith@oak.bank
URL:https://gslcwi.com/event/verona-4-h-7/
LOCATION:Verona Fellowship Hall
END:VEVENT
BEGIN:VEVENT
DTSTART;TZID=America/Chicago:20260304T100000
DTEND;TZID=America/Chicago:20260304T120000
DTSTAMP:20260421T012240
CREATED:20260207T162024Z
LAST-MODIFIED:20260228T124001Z
UID:10025296-1772618400-1772625600@gslcwi.com
SUMMARY:Quilters
DESCRIPTION:________________________________________________________________________________\nMicrosoft Teams Need help?\nJoin the meeting now\nMeeting ID: 271 936 289 350 0\nPasscode: eG38Cb6X\n________________________________\nFor organizers: Meeting options\n________________________________________________________________________________
URL:https://gslcwi.com/event/quilters-158/
LOCATION:Verona Fellowship Hall
END:VEVENT
BEGIN:VEVENT
DTSTART;TZID=America/Chicago:20260303T183000
DTEND;TZID=America/Chicago:20260303T203000
DTSTAMP:20260421T012240
CREATED:20260131T170137Z
LAST-MODIFIED:20260228T124957Z
UID:10025219-1772562600-1772569800@gslcwi.com
SUMMARY:Boy Scouts
DESCRIPTION:Amy Byrnes – Scout Master ajmbyrnes@yahoo.com\nMatt Watrud – Scout Master watrud@uwalumni.com
URL:https://gslcwi.com/event/boy-scouts-267/
LOCATION:Verona Fellowship Hall
END:VEVENT
BEGIN:VEVENT
DTSTART;TZID=America/Chicago:20260227T073000
DTEND;TZID=America/Chicago:20260227T120000
DTSTAMP:20260421T012240
CREATED:20260131T164442Z
LAST-MODIFIED:20260221T130441Z
UID:10025201-1772177400-1772193600@gslcwi.com
SUMMARY:Little Blessings
DESCRIPTION:________________________________________________________________________________\nMicrosoft Teams Need help?\nJoin the meeting now\nMeeting ID: 248 777 163 616 66\nPasscode: wn3e4Ue3\n________________________________\nFor organizers: Meeting options\n________________________________________________________________________________
URL:https://gslcwi.com/event/little-blessings-4/
LOCATION:Verona Fellowship Hall
END:VEVENT
BEGIN:VEVENT
DTSTART;TZID=America/Chicago:20260224T183000
DTEND;TZID=America/Chicago:20260224T203000
DTSTAMP:20260421T012240
CREATED:20260124T170418Z
LAST-MODIFIED:20260221T125243Z
UID:10025172-1771957800-1771965000@gslcwi.com
SUMMARY:Boy Scouts
DESCRIPTION:Amy Byrnes – Scout Master ajmbyrnes@yahoo.com\nMatt Watrud – Scout Master watrud@uwalumni.com
URL:https://gslcwi.com/event/boy-scouts-266/
LOCATION:Verona Fellowship Hall
END:VEVENT
BEGIN:VEVENT
DTSTART;TZID=America/Chicago:20260223T173000
DTEND;TZID=America/Chicago:20260223T190000
DTSTAMP:20260421T012240
CREATED:20260124T164807Z
LAST-MODIFIED:20260221T124437Z
UID:10025164-1771867800-1771873200@gslcwi.com
SUMMARY:Girl Scouts
DESCRIPTION:Kim Cleveland 763-300-2363\n________________________________________________________________________________\nMicrosoft Teams Need help?\nJoin the meeting now\nMeeting ID: 299 791 989 031 61\nPasscode: mo9uD3Lg\n________________________________\nFor organizers: Meeting options\n________________________________________________________________________________
URL:https://gslcwi.com/event/girl-scouts-228/
LOCATION:Verona Fellowship Hall
END:VEVENT
END:VCALENDAR