BEGIN:VCALENDAR
VERSION:2.0
PRODID:-//Good Shepherd Lutheran Church - ECPv6.15.20//NONSGML v1.0//EN
CALSCALE:GREGORIAN
METHOD:PUBLISH
X-WR-CALNAME:Good Shepherd Lutheran Church
X-ORIGINAL-URL:https://gslcwi.com
X-WR-CALDESC:Events for Good Shepherd Lutheran Church
REFRESH-INTERVAL;VALUE=DURATION:PT1H
X-Robots-Tag:noindex
X-PUBLISHED-TTL:PT1H
BEGIN:VTIMEZONE
TZID:America/Chicago
BEGIN:DAYLIGHT
TZOFFSETFROM:-0600
TZOFFSETTO:-0500
TZNAME:CDT
DTSTART:20250309T080000
END:DAYLIGHT
BEGIN:STANDARD
TZOFFSETFROM:-0500
TZOFFSETTO:-0600
TZNAME:CST
DTSTART:20251102T070000
END:STANDARD
BEGIN:DAYLIGHT
TZOFFSETFROM:-0600
TZOFFSETTO:-0500
TZNAME:CDT
DTSTART:20260308T080000
END:DAYLIGHT
BEGIN:STANDARD
TZOFFSETFROM:-0500
TZOFFSETTO:-0600
TZNAME:CST
DTSTART:20261101T070000
END:STANDARD
BEGIN:DAYLIGHT
TZOFFSETFROM:-0600
TZOFFSETTO:-0500
TZNAME:CDT
DTSTART:20270314T080000
END:DAYLIGHT
BEGIN:STANDARD
TZOFFSETFROM:-0500
TZOFFSETTO:-0600
TZNAME:CST
DTSTART:20271107T070000
END:STANDARD
END:VTIMEZONE
BEGIN:VEVENT
DTSTART;TZID=America/Chicago:20260428T083000
DTEND;TZID=America/Chicago:20260428T093000
DTSTAMP:20260419T215715
CREATED:20260328T154536Z
LAST-MODIFIED:20260418T143106Z
UID:10025642-1777365000-1777368600@gslcwi.com
SUMMARY:Birth to 3 Play Group
DESCRIPTION:See Tracy Gold
URL:https://gslcwi.com/event/birth-to-3-play-group-33/
LOCATION:Verona Gym
END:VEVENT
BEGIN:VEVENT
DTSTART;TZID=America/Chicago:20260501T130000
DTEND;TZID=America/Chicago:20260501T170000
DTSTAMP:20260419T215715
CREATED:20260328T160422Z
LAST-MODIFIED:20260418T150254Z
UID:10025658-1777640400-1777654800@gslcwi.com
SUMMARY:Pickleball
DESCRIPTION:Phyllis Wiederhoeft\n608-235-6312\npwiederhoeft@gmail.com\n________________________________________________________________________________\nMicrosoft Teams Need help?\nJoin the meeting now\nMeeting ID: 297 226 134 502 5\nPasscode: Xc36EC6C\n________________________________\nFor organizers: Meeting options\n________________________________________________________________________________
URL:https://gslcwi.com/event/pickleball-363/
LOCATION:Verona Gym
END:VEVENT
BEGIN:VEVENT
DTSTART;TZID=America/Chicago:20260503T120000
DTEND;TZID=America/Chicago:20260503T170000
DTSTAMP:20260419T215715
CREATED:20220925T214225Z
LAST-MODIFIED:20230307T202102Z
UID:10017669-1777809600-1777827600@gslcwi.com
SUMMARY:Pickleball
DESCRIPTION:
URL:https://gslcwi.com/event/pickleball-81/2026-05-03/
LOCATION:Verona Gym
CATEGORIES:Sports,Verona Gym
ATTACH;FMTTYPE=image/jpeg:https://gslcwi.com/wp-content/uploads/2023/02/pickleball2-1.jpg
END:VEVENT
BEGIN:VEVENT
DTSTART;TZID=America/Chicago:20260503T130000
DTEND;TZID=America/Chicago:20260503T170000
DTSTAMP:20260419T215715
CREATED:20260404T153923Z
LAST-MODIFIED:20260418T150255Z
UID:10025675-1777813200-1777827600@gslcwi.com
SUMMARY:Pickleball
DESCRIPTION:Phyllis Wiederhoeft\npwiederhoeft@gmail.com
URL:https://gslcwi.com/event/pickleball-231/
LOCATION:Verona Gym
END:VEVENT
BEGIN:VEVENT
DTSTART;TZID=America/Chicago:20260505T083000
DTEND;TZID=America/Chicago:20260505T093000
DTSTAMP:20260419T215715
CREATED:20260404T154904Z
LAST-MODIFIED:20260418T151621Z
UID:10025684-1777969800-1777973400@gslcwi.com
SUMMARY:Birth to 3 Play Group
DESCRIPTION:See Tracy Gold
URL:https://gslcwi.com/event/birth-to-3-play-group-34/
LOCATION:Verona Gym
END:VEVENT
BEGIN:VEVENT
DTSTART;TZID=America/Chicago:20260508T130000
DTEND;TZID=America/Chicago:20260508T170000
DTSTAMP:20260419T215715
CREATED:20260404T160743Z
LAST-MODIFIED:20260418T153523Z
UID:10025705-1778245200-1778259600@gslcwi.com
SUMMARY:Pickleball
DESCRIPTION:Phyllis Wiederhoeft\n608-235-6312\npwiederhoeft@gmail.com\n________________________________________________________________________________\nMicrosoft Teams Need help?\nJoin the meeting now\nMeeting ID: 297 226 134 502 5\nPasscode: Xc36EC6C\n________________________________\nFor organizers: Meeting options\n________________________________________________________________________________
URL:https://gslcwi.com/event/pickleball-364/
LOCATION:Verona Gym
END:VEVENT
BEGIN:VEVENT
DTSTART;TZID=America/Chicago:20260510T120000
DTEND;TZID=America/Chicago:20260510T170000
DTSTAMP:20260419T215715
CREATED:20220925T214225Z
LAST-MODIFIED:20230307T202102Z
UID:10017670-1778414400-1778432400@gslcwi.com
SUMMARY:Pickleball
DESCRIPTION:
URL:https://gslcwi.com/event/pickleball-81/2026-05-10/
LOCATION:Verona Gym
CATEGORIES:Sports,Verona Gym
ATTACH;FMTTYPE=image/jpeg:https://gslcwi.com/wp-content/uploads/2023/02/pickleball2-1.jpg
END:VEVENT
BEGIN:VEVENT
DTSTART;TZID=America/Chicago:20260510T130000
DTEND;TZID=America/Chicago:20260510T170000
DTSTAMP:20260419T215715
CREATED:20260404T161225Z
LAST-MODIFIED:20260418T153957Z
UID:10025711-1778418000-1778432400@gslcwi.com
SUMMARY:Pickleball
DESCRIPTION:Phyllis Wiederhoeft\npwiederhoeft@gmail.com
URL:https://gslcwi.com/event/pickleball-365/
LOCATION:Verona Gym
END:VEVENT
BEGIN:VEVENT
DTSTART;TZID=America/Chicago:20260512T083000
DTEND;TZID=America/Chicago:20260512T093000
DTSTAMP:20260419T215715
CREATED:20260411T155618Z
LAST-MODIFIED:20260418T155412Z
UID:10025749-1778574600-1778578200@gslcwi.com
SUMMARY:Birth to 3 Play Group
DESCRIPTION:See Tracy Gold
URL:https://gslcwi.com/event/birth-to-3-play-group-35/
LOCATION:Verona Gym
END:VEVENT
BEGIN:VEVENT
DTSTART;TZID=America/Chicago:20260515T130000
DTEND;TZID=America/Chicago:20260515T170000
DTSTAMP:20260419T215715
CREATED:20260418T163100Z
LAST-MODIFIED:20260418T163100Z
UID:10025884-1778850000-1778864400@gslcwi.com
SUMMARY:Pickleball
DESCRIPTION:Phyllis Wiederhoeft\n608-235-6312\npwiederhoeft@gmail.com\n________________________________________________________________________________\nMicrosoft Teams Need help?\nJoin the meeting now\nMeeting ID: 297 226 134 502 5\nPasscode: Xc36EC6C\n________________________________\nFor organizers: Meeting options\n________________________________________________________________________________
URL:https://gslcwi.com/event/pickleball-366/
LOCATION:Verona Gym
END:VEVENT
BEGIN:VEVENT
DTSTART;TZID=America/Chicago:20260517T120000
DTEND;TZID=America/Chicago:20260517T170000
DTSTAMP:20260419T215715
CREATED:20220925T214225Z
LAST-MODIFIED:20230307T202102Z
UID:10017671-1779019200-1779037200@gslcwi.com
SUMMARY:Pickleball
DESCRIPTION:
URL:https://gslcwi.com/event/pickleball-81/2026-05-17/
LOCATION:Verona Gym
CATEGORIES:Sports,Verona Gym
ATTACH;FMTTYPE=image/jpeg:https://gslcwi.com/wp-content/uploads/2023/02/pickleball2-1.jpg
END:VEVENT
BEGIN:VEVENT
DTSTART;TZID=America/Chicago:20260517T130000
DTEND;TZID=America/Chicago:20260517T170000
DTSTAMP:20260419T215715
CREATED:20260418T163541Z
LAST-MODIFIED:20260418T163541Z
UID:10025889-1779022800-1779037200@gslcwi.com
SUMMARY:Pickleball
DESCRIPTION:Phyllis Wiederhoeft\npwiederhoeft@gmail.com
URL:https://gslcwi.com/event/pickleball-367/
LOCATION:Verona Gym
END:VEVENT
BEGIN:VEVENT
DTSTART;TZID=America/Chicago:20260519T083000
DTEND;TZID=America/Chicago:20260519T093000
DTSTAMP:20260419T215715
CREATED:20260418T164024Z
LAST-MODIFIED:20260418T164024Z
UID:10025897-1779179400-1779183000@gslcwi.com
SUMMARY:Birth to 3 Play Group
DESCRIPTION:See Tracy Gold
URL:https://gslcwi.com/event/birth-to-3-play-group-36/
LOCATION:Verona Gym
END:VEVENT
BEGIN:VEVENT
DTSTART;TZID=America/Chicago:20260522T130000
DTEND;TZID=America/Chicago:20260522T170000
DTSTAMP:20260419T215715
CREATED:20260418T171508Z
LAST-MODIFIED:20260418T171508Z
UID:10025931-1779454800-1779469200@gslcwi.com
SUMMARY:Pickleball
DESCRIPTION:Phyllis Wiederhoeft\n608-235-6312\npwiederhoeft@gmail.com\n________________________________________________________________________________\nMicrosoft Teams Need help?\nJoin the meeting now\nMeeting ID: 297 226 134 502 5\nPasscode: Xc36EC6C\n________________________________\nFor organizers: Meeting options\n________________________________________________________________________________
URL:https://gslcwi.com/event/pickleball-368/
LOCATION:Verona Gym
END:VEVENT
BEGIN:VEVENT
DTSTART;TZID=America/Chicago:20260524T120000
DTEND;TZID=America/Chicago:20260524T170000
DTSTAMP:20260419T215715
CREATED:20220925T214225Z
LAST-MODIFIED:20230307T202102Z
UID:10017672-1779624000-1779642000@gslcwi.com
SUMMARY:Pickleball
DESCRIPTION:
URL:https://gslcwi.com/event/pickleball-81/2026-05-24/
LOCATION:Verona Gym
CATEGORIES:Sports,Verona Gym
ATTACH;FMTTYPE=image/jpeg:https://gslcwi.com/wp-content/uploads/2023/02/pickleball2-1.jpg
END:VEVENT
BEGIN:VEVENT
DTSTART;TZID=America/Chicago:20260524T130000
DTEND;TZID=America/Chicago:20260524T170000
DTSTAMP:20260419T215715
CREATED:20260418T171942Z
LAST-MODIFIED:20260418T171942Z
UID:10025933-1779627600-1779642000@gslcwi.com
SUMMARY:Pickleball
DESCRIPTION:Phyllis Wiederhoeft\npwiederhoeft@gmail.com
URL:https://gslcwi.com/event/pickleball-369/
LOCATION:Verona Gym
END:VEVENT
BEGIN:VEVENT
DTSTART;TZID=America/Chicago:20260526T083000
DTEND;TZID=America/Chicago:20260526T093000
DTSTAMP:20260419T215715
CREATED:20260418T172426Z
LAST-MODIFIED:20260418T172426Z
UID:10025941-1779784200-1779787800@gslcwi.com
SUMMARY:Birth to 3 Play Group
DESCRIPTION:See Tracy Gold
URL:https://gslcwi.com/event/birth-to-3-play-group-37/
LOCATION:Verona Gym
END:VEVENT
BEGIN:VEVENT
DTSTART;TZID=America/Chicago:20260531T120000
DTEND;TZID=America/Chicago:20260531T170000
DTSTAMP:20260419T215715
CREATED:20220925T214225Z
LAST-MODIFIED:20230307T202102Z
UID:10017673-1780228800-1780246800@gslcwi.com
SUMMARY:Pickleball
DESCRIPTION:
URL:https://gslcwi.com/event/pickleball-81/2026-05-31/
LOCATION:Verona Gym
CATEGORIES:Sports,Verona Gym
ATTACH;FMTTYPE=image/jpeg:https://gslcwi.com/wp-content/uploads/2023/02/pickleball2-1.jpg
END:VEVENT
BEGIN:VEVENT
DTSTART;TZID=America/Chicago:20260607T120000
DTEND;TZID=America/Chicago:20260607T170000
DTSTAMP:20260419T215715
CREATED:20220925T214225Z
LAST-MODIFIED:20230307T202102Z
UID:10017674-1780833600-1780851600@gslcwi.com
SUMMARY:Pickleball
DESCRIPTION:
URL:https://gslcwi.com/event/pickleball-81/2026-06-07/
LOCATION:Verona Gym
CATEGORIES:Sports,Verona Gym
ATTACH;FMTTYPE=image/jpeg:https://gslcwi.com/wp-content/uploads/2023/02/pickleball2-1.jpg
END:VEVENT
BEGIN:VEVENT
DTSTART;TZID=America/Chicago:20260614T120000
DTEND;TZID=America/Chicago:20260614T170000
DTSTAMP:20260419T215715
CREATED:20220925T214225Z
LAST-MODIFIED:20230307T202102Z
UID:10017675-1781438400-1781456400@gslcwi.com
SUMMARY:Pickleball
DESCRIPTION:
URL:https://gslcwi.com/event/pickleball-81/2026-06-14/
LOCATION:Verona Gym
CATEGORIES:Sports,Verona Gym
ATTACH;FMTTYPE=image/jpeg:https://gslcwi.com/wp-content/uploads/2023/02/pickleball2-1.jpg
END:VEVENT
BEGIN:VEVENT
DTSTART;TZID=America/Chicago:20260621T120000
DTEND;TZID=America/Chicago:20260621T170000
DTSTAMP:20260419T215715
CREATED:20220925T214225Z
LAST-MODIFIED:20230307T202102Z
UID:10017676-1782043200-1782061200@gslcwi.com
SUMMARY:Pickleball
DESCRIPTION:
URL:https://gslcwi.com/event/pickleball-81/2026-06-21/
LOCATION:Verona Gym
CATEGORIES:Sports,Verona Gym
ATTACH;FMTTYPE=image/jpeg:https://gslcwi.com/wp-content/uploads/2023/02/pickleball2-1.jpg
END:VEVENT
BEGIN:VEVENT
DTSTART;TZID=America/Chicago:20260628T120000
DTEND;TZID=America/Chicago:20260628T170000
DTSTAMP:20260419T215715
CREATED:20220925T214225Z
LAST-MODIFIED:20230307T202102Z
UID:10017677-1782648000-1782666000@gslcwi.com
SUMMARY:Pickleball
DESCRIPTION:
URL:https://gslcwi.com/event/pickleball-81/2026-06-28/
LOCATION:Verona Gym
CATEGORIES:Sports,Verona Gym
ATTACH;FMTTYPE=image/jpeg:https://gslcwi.com/wp-content/uploads/2023/02/pickleball2-1.jpg
END:VEVENT
BEGIN:VEVENT
DTSTART;TZID=America/Chicago:20260705T120000
DTEND;TZID=America/Chicago:20260705T170000
DTSTAMP:20260419T215715
CREATED:20220925T214225Z
LAST-MODIFIED:20230307T202102Z
UID:10017678-1783252800-1783270800@gslcwi.com
SUMMARY:Pickleball
DESCRIPTION:
URL:https://gslcwi.com/event/pickleball-81/2026-07-05/
LOCATION:Verona Gym
CATEGORIES:Sports,Verona Gym
ATTACH;FMTTYPE=image/jpeg:https://gslcwi.com/wp-content/uploads/2023/02/pickleball2-1.jpg
END:VEVENT
BEGIN:VEVENT
DTSTART;TZID=America/Chicago:20260712T120000
DTEND;TZID=America/Chicago:20260712T170000
DTSTAMP:20260419T215715
CREATED:20220925T214225Z
LAST-MODIFIED:20230307T202102Z
UID:10017679-1783857600-1783875600@gslcwi.com
SUMMARY:Pickleball
DESCRIPTION:
URL:https://gslcwi.com/event/pickleball-81/2026-07-12/
LOCATION:Verona Gym
CATEGORIES:Sports,Verona Gym
ATTACH;FMTTYPE=image/jpeg:https://gslcwi.com/wp-content/uploads/2023/02/pickleball2-1.jpg
END:VEVENT
BEGIN:VEVENT
DTSTART;TZID=America/Chicago:20260719T120000
DTEND;TZID=America/Chicago:20260719T170000
DTSTAMP:20260419T215715
CREATED:20220925T214225Z
LAST-MODIFIED:20230307T202102Z
UID:10017680-1784462400-1784480400@gslcwi.com
SUMMARY:Pickleball
DESCRIPTION:
URL:https://gslcwi.com/event/pickleball-81/2026-07-19/
LOCATION:Verona Gym
CATEGORIES:Sports,Verona Gym
ATTACH;FMTTYPE=image/jpeg:https://gslcwi.com/wp-content/uploads/2023/02/pickleball2-1.jpg
END:VEVENT
BEGIN:VEVENT
DTSTART;TZID=America/Chicago:20260726T120000
DTEND;TZID=America/Chicago:20260726T170000
DTSTAMP:20260419T215715
CREATED:20220925T214225Z
LAST-MODIFIED:20230307T202102Z
UID:10017681-1785067200-1785085200@gslcwi.com
SUMMARY:Pickleball
DESCRIPTION:
URL:https://gslcwi.com/event/pickleball-81/2026-07-26/
LOCATION:Verona Gym
CATEGORIES:Sports,Verona Gym
ATTACH;FMTTYPE=image/jpeg:https://gslcwi.com/wp-content/uploads/2023/02/pickleball2-1.jpg
END:VEVENT
BEGIN:VEVENT
DTSTART;TZID=America/Chicago:20260802T120000
DTEND;TZID=America/Chicago:20260802T170000
DTSTAMP:20260419T215715
CREATED:20220925T214225Z
LAST-MODIFIED:20230307T202102Z
UID:10017682-1785672000-1785690000@gslcwi.com
SUMMARY:Pickleball
DESCRIPTION:
URL:https://gslcwi.com/event/pickleball-81/2026-08-02/
LOCATION:Verona Gym
CATEGORIES:Sports,Verona Gym
ATTACH;FMTTYPE=image/jpeg:https://gslcwi.com/wp-content/uploads/2023/02/pickleball2-1.jpg
END:VEVENT
BEGIN:VEVENT
DTSTART;TZID=America/Chicago:20260809T120000
DTEND;TZID=America/Chicago:20260809T170000
DTSTAMP:20260419T215715
CREATED:20220925T214225Z
LAST-MODIFIED:20230307T202102Z
UID:10017683-1786276800-1786294800@gslcwi.com
SUMMARY:Pickleball
DESCRIPTION:
URL:https://gslcwi.com/event/pickleball-81/2026-08-09/
LOCATION:Verona Gym
CATEGORIES:Sports,Verona Gym
ATTACH;FMTTYPE=image/jpeg:https://gslcwi.com/wp-content/uploads/2023/02/pickleball2-1.jpg
END:VEVENT
BEGIN:VEVENT
DTSTART;TZID=America/Chicago:20260816T120000
DTEND;TZID=America/Chicago:20260816T170000
DTSTAMP:20260419T215715
CREATED:20220925T214225Z
LAST-MODIFIED:20230307T202102Z
UID:10017684-1786881600-1786899600@gslcwi.com
SUMMARY:Pickleball
DESCRIPTION:
URL:https://gslcwi.com/event/pickleball-81/2026-08-16/
LOCATION:Verona Gym
CATEGORIES:Sports,Verona Gym
ATTACH;FMTTYPE=image/jpeg:https://gslcwi.com/wp-content/uploads/2023/02/pickleball2-1.jpg
END:VEVENT
BEGIN:VEVENT
DTSTART;TZID=America/Chicago:20260823T120000
DTEND;TZID=America/Chicago:20260823T170000
DTSTAMP:20260419T215715
CREATED:20220925T214225Z
LAST-MODIFIED:20230307T202102Z
UID:10017685-1787486400-1787504400@gslcwi.com
SUMMARY:Pickleball
DESCRIPTION:
URL:https://gslcwi.com/event/pickleball-81/2026-08-23/
LOCATION:Verona Gym
CATEGORIES:Sports,Verona Gym
ATTACH;FMTTYPE=image/jpeg:https://gslcwi.com/wp-content/uploads/2023/02/pickleball2-1.jpg
END:VEVENT
END:VCALENDAR