BEGIN:VCALENDAR
VERSION:2.0
PRODID:-//Good Shepherd Lutheran Church - ECPv6.15.20//NONSGML v1.0//EN
CALSCALE:GREGORIAN
METHOD:PUBLISH
X-ORIGINAL-URL:https://gslcwi.com
X-WR-CALDESC:Events for Good Shepherd Lutheran Church
REFRESH-INTERVAL;VALUE=DURATION:PT1H
X-Robots-Tag:noindex
X-PUBLISHED-TTL:PT1H
BEGIN:VTIMEZONE
TZID:America/Chicago
BEGIN:DAYLIGHT
TZOFFSETFROM:-0600
TZOFFSETTO:-0500
TZNAME:CDT
DTSTART:20240310T080000
END:DAYLIGHT
BEGIN:STANDARD
TZOFFSETFROM:-0500
TZOFFSETTO:-0600
TZNAME:CST
DTSTART:20241103T070000
END:STANDARD
BEGIN:DAYLIGHT
TZOFFSETFROM:-0600
TZOFFSETTO:-0500
TZNAME:CDT
DTSTART:20250309T080000
END:DAYLIGHT
BEGIN:STANDARD
TZOFFSETFROM:-0500
TZOFFSETTO:-0600
TZNAME:CST
DTSTART:20251102T070000
END:STANDARD
BEGIN:DAYLIGHT
TZOFFSETFROM:-0600
TZOFFSETTO:-0500
TZNAME:CDT
DTSTART:20260308T080000
END:DAYLIGHT
BEGIN:STANDARD
TZOFFSETFROM:-0500
TZOFFSETTO:-0600
TZNAME:CST
DTSTART:20261101T070000
END:STANDARD
END:VTIMEZONE
BEGIN:VEVENT
DTSTART;VALUE=DATE:20251215
DTEND;VALUE=DATE:20251216
DTSTAMP:20260420T152120
CREATED:20251122T144927Z
LAST-MODIFIED:20251213T113407Z
UID:10024055-1765756800-1765843199@gslcwi.com
SUMMARY:Preschool Need
DESCRIPTION:Amy Voss
URL:https://gslcwi.com/event/preschool-need-4/
LOCATION:Verona room 5
END:VEVENT
BEGIN:VEVENT
DTSTART;VALUE=DATE:20251208
DTEND;VALUE=DATE:20251209
DTSTAMP:20260420T152120
CREATED:20251122T134525Z
LAST-MODIFIED:20251206T112600Z
UID:10024053-1765152000-1765238399@gslcwi.com
SUMMARY:Preschool Need
DESCRIPTION:Amy Voss
URL:https://gslcwi.com/event/preschool-need-3/
LOCATION:Verona room 5
END:VEVENT
BEGIN:VEVENT
DTSTART;VALUE=DATE:20251201
DTEND;VALUE=DATE:20251202
DTSTAMP:20260420T152120
CREATED:20251122T122520Z
LAST-MODIFIED:20251129T114041Z
UID:10024052-1764547200-1764633599@gslcwi.com
SUMMARY:Preschool Need
DESCRIPTION:Amy Voss
URL:https://gslcwi.com/event/preschool-need-2/
LOCATION:Verona room 5
END:VEVENT
BEGIN:VEVENT
DTSTART;VALUE=DATE:20251124
DTEND;VALUE=DATE:20251125
DTSTAMP:20260420T152120
CREATED:20251122T113433Z
LAST-MODIFIED:20251122T113433Z
UID:10024045-1763942400-1764028799@gslcwi.com
SUMMARY:Preschool Need
DESCRIPTION:Amy Voss
URL:https://gslcwi.com/event/preschool-need/
LOCATION:Verona room 5
END:VEVENT
END:VCALENDAR