BEGIN:VCALENDAR
VERSION:2.0
PRODID:-//Good Shepherd Lutheran Church - ECPv6.15.20//NONSGML v1.0//EN
CALSCALE:GREGORIAN
METHOD:PUBLISH
X-ORIGINAL-URL:https://gslcwi.com
X-WR-CALDESC:Events for Good Shepherd Lutheran Church
REFRESH-INTERVAL;VALUE=DURATION:PT1H
X-Robots-Tag:noindex
X-PUBLISHED-TTL:PT1H
BEGIN:VTIMEZONE
TZID:America/Chicago
BEGIN:DAYLIGHT
TZOFFSETFROM:-0600
TZOFFSETTO:-0500
TZNAME:CDT
DTSTART:20240310T080000
END:DAYLIGHT
BEGIN:STANDARD
TZOFFSETFROM:-0500
TZOFFSETTO:-0600
TZNAME:CST
DTSTART:20241103T070000
END:STANDARD
BEGIN:DAYLIGHT
TZOFFSETFROM:-0600
TZOFFSETTO:-0500
TZNAME:CDT
DTSTART:20250309T080000
END:DAYLIGHT
BEGIN:STANDARD
TZOFFSETFROM:-0500
TZOFFSETTO:-0600
TZNAME:CST
DTSTART:20251102T070000
END:STANDARD
BEGIN:DAYLIGHT
TZOFFSETFROM:-0600
TZOFFSETTO:-0500
TZNAME:CDT
DTSTART:20260308T080000
END:DAYLIGHT
BEGIN:STANDARD
TZOFFSETFROM:-0500
TZOFFSETTO:-0600
TZNAME:CST
DTSTART:20261101T070000
END:STANDARD
BEGIN:DAYLIGHT
TZOFFSETFROM:-0600
TZOFFSETTO:-0500
TZNAME:CDT
DTSTART:20270314T080000
END:DAYLIGHT
BEGIN:STANDARD
TZOFFSETFROM:-0500
TZOFFSETTO:-0600
TZNAME:CST
DTSTART:20271107T070000
END:STANDARD
END:VTIMEZONE
BEGIN:VEVENT
DTSTART;TZID=America/Chicago:20260420T180000
DTEND;TZID=America/Chicago:20260420T190000
DTSTAMP:20260420T194752
CREATED:20260321T152956Z
LAST-MODIFIED:20260418T133805Z
UID:10025588-1776708000-1776711600@gslcwi.com
SUMMARY:Webelos Meeting
DESCRIPTION:Kyle Davis\, anthem1@gmail.com
URL:https://gslcwi.com/event/webelos-meeting-29/
LOCATION:Verona Room 6
END:VEVENT
BEGIN:VEVENT
DTSTART;TZID=America/Chicago:20260414T193000
DTEND;TZID=America/Chicago:20260414T210000
DTSTAMP:20260420T194752
CREATED:20260314T154118Z
LAST-MODIFIED:20260411T133751Z
UID:10025554-1776195000-1776200400@gslcwi.com
SUMMARY:AA Meeting
DESCRIPTION:Jenni Nowak jenninowak25@gmail.com\nAlexander: 585.305.3414\nJennifer: 608.515.0697
URL:https://gslcwi.com/event/aa-meeting-202/
LOCATION:Verona Room 6
END:VEVENT
BEGIN:VEVENT
DTSTART;TZID=America/Chicago:20260413T180000
DTEND;TZID=America/Chicago:20260413T190000
DTSTAMP:20260420T194752
CREATED:20260314T153147Z
LAST-MODIFIED:20260411T132921Z
UID:10025545-1776103200-1776106800@gslcwi.com
SUMMARY:Webelos
DESCRIPTION:Kyle Davis\, anthem1@gmail.com
URL:https://gslcwi.com/event/webelos-11/
LOCATION:Verona Room 6
END:VEVENT
BEGIN:VEVENT
DTSTART;TZID=America/Chicago:20260407T193000
DTEND;TZID=America/Chicago:20260407T210000
DTSTAMP:20260420T194752
CREATED:20260314T145536Z
LAST-MODIFIED:20260404T132811Z
UID:10025506-1775590200-1775595600@gslcwi.com
SUMMARY:AA Meeting
DESCRIPTION:Jenni Nowak jenninowak25@gmail.com\nAlexander: 585.305.3414\nJennifer: 608.515.0697
URL:https://gslcwi.com/event/aa-meeting-201/
LOCATION:Verona Room 6
END:VEVENT
BEGIN:VEVENT
DTSTART;TZID=America/Chicago:20260406T183000
DTEND;TZID=America/Chicago:20260406T200000
DTSTAMP:20260420T194752
CREATED:20260314T144544Z
LAST-MODIFIED:20260328T135504Z
UID:10025498-1775500200-1775505600@gslcwi.com
SUMMARY:Girl Scouts
DESCRIPTION:Katy Kosobucki kbreidenbach@uwalumni.com
URL:https://gslcwi.com/event/girl-scouts-241/
LOCATION:Verona Room 6
END:VEVENT
BEGIN:VEVENT
DTSTART;TZID=America/Chicago:20260331T193000
DTEND;TZID=America/Chicago:20260331T210000
DTSTAMP:20260420T194752
CREATED:20260228T152855Z
LAST-MODIFIED:20260328T131925Z
UID:10025458-1774985400-1774990800@gslcwi.com
SUMMARY:AA Meeting
DESCRIPTION:Jenni Nowak jenninowak25@gmail.com\nAlexander: 585.305.3414\nJennifer: 608.515.0697
URL:https://gslcwi.com/event/aa-meeting-200/
LOCATION:Verona Room 6
END:VEVENT
BEGIN:VEVENT
DTSTART;TZID=America/Chicago:20260324T193000
DTEND;TZID=America/Chicago:20260324T210000
DTSTAMP:20260420T194752
CREATED:20260221T150147Z
LAST-MODIFIED:20260321T130726Z
UID:10025416-1774380600-1774386000@gslcwi.com
SUMMARY:AA Meeting
DESCRIPTION:Jenni Nowak jenninowak25@gmail.com\nAlexander: 585.305.3414\nJennifer: 608.515.0697
URL:https://gslcwi.com/event/aa-meeting-199/
LOCATION:Verona Room 6
END:VEVENT
BEGIN:VEVENT
DTSTART;TZID=America/Chicago:20260323T180000
DTEND;TZID=America/Chicago:20260323T190000
DTSTAMP:20260420T194752
CREATED:20260221T145742Z
LAST-MODIFIED:20260321T125820Z
UID:10025411-1774288800-1774292400@gslcwi.com
SUMMARY:Webelos Den Meeting
DESCRIPTION:Kyle Davis\, anthem1@gmail.com
URL:https://gslcwi.com/event/webelos-den-meeting-21/
LOCATION:Verona Room 6
END:VEVENT
BEGIN:VEVENT
DTSTART;TZID=America/Chicago:20260317T193000
DTEND;TZID=America/Chicago:20260317T210000
DTSTAMP:20260420T194752
CREATED:20260214T150336Z
LAST-MODIFIED:20260314T130610Z
UID:10025375-1773775800-1773781200@gslcwi.com
SUMMARY:AA Meeting
DESCRIPTION:Jenni Nowak jenninowak25@gmail.com\nAlexander: 585.305.3414\nJennifer: 608.515.0697
URL:https://gslcwi.com/event/aa-meeting-198/
LOCATION:Verona Room 6
END:VEVENT
BEGIN:VEVENT
DTSTART;TZID=America/Chicago:20260310T193000
DTEND;TZID=America/Chicago:20260310T210000
DTSTAMP:20260420T194752
CREATED:20260214T143447Z
LAST-MODIFIED:20260307T131159Z
UID:10025338-1773171000-1773176400@gslcwi.com
SUMMARY:AA Meeting
DESCRIPTION:Jenni Nowak jenninowak25@gmail.com\nAlexander: 585.305.3414\nJennifer: 608.515.0697
URL:https://gslcwi.com/event/aa-meeting-197/
LOCATION:Verona Room 6
END:VEVENT
BEGIN:VEVENT
DTSTART;TZID=America/Chicago:20260309T180000
DTEND;TZID=America/Chicago:20260309T190000
DTSTAMP:20260420T194752
CREATED:20260207T172218Z
LAST-MODIFIED:20260307T130709Z
UID:10025322-1773079200-1773082800@gslcwi.com
SUMMARY:Webelos
DESCRIPTION:Kyle Davis\, anthem1@gmail.com
URL:https://gslcwi.com/event/webelos-10/
LOCATION:Verona Room 6
END:VEVENT
BEGIN:VEVENT
DTSTART;TZID=America/Chicago:20260303T193000
DTEND;TZID=America/Chicago:20260303T210000
DTSTAMP:20260420T194752
CREATED:20260131T171633Z
LAST-MODIFIED:20260228T124957Z
UID:10025220-1772566200-1772571600@gslcwi.com
SUMMARY:AA Meeting
DESCRIPTION:Jenni Nowak jenninowak25@gmail.com\nAlexander: 585.305.3414\nJennifer: 608.515.0697
URL:https://gslcwi.com/event/aa-meeting-196/
LOCATION:Verona Room 6
END:VEVENT
BEGIN:VEVENT
DTSTART;TZID=America/Chicago:20260302T183000
DTEND;TZID=America/Chicago:20260302T200000
DTSTAMP:20260420T194752
CREATED:20260131T170136Z
LAST-MODIFIED:20260228T124457Z
UID:10025215-1772476200-1772481600@gslcwi.com
SUMMARY:Girl Scouts
DESCRIPTION:Katy Kosobucki kbreidenbach@uwalumni.com
URL:https://gslcwi.com/event/girl-scouts-231/
LOCATION:Verona Room 6
END:VEVENT
BEGIN:VEVENT
DTSTART;TZID=America/Chicago:20260224T193000
DTEND;TZID=America/Chicago:20260224T210000
DTSTAMP:20260420T194752
CREATED:20260124T170417Z
LAST-MODIFIED:20260221T125243Z
UID:10025171-1771961400-1771966800@gslcwi.com
SUMMARY:AA Meeting
DESCRIPTION:Jenni Nowak jenninowak25@gmail.com\nAlexander: 585.305.3414\nJennifer: 608.515.0697
URL:https://gslcwi.com/event/aa-meeting-195/
LOCATION:Verona Room 6
END:VEVENT
BEGIN:VEVENT
DTSTART;TZID=America/Chicago:20260223T180000
DTEND;TZID=America/Chicago:20260223T190000
DTSTAMP:20260420T194752
CREATED:20260124T164807Z
LAST-MODIFIED:20260221T124838Z
UID:10025163-1771869600-1771873200@gslcwi.com
SUMMARY:Webelos Den Meeting
DESCRIPTION:Kyle Davis\, anthem1@gmail.com
URL:https://gslcwi.com/event/webelos-den-meeting-20/
LOCATION:Verona Room 6
END:VEVENT
BEGIN:VEVENT
DTSTART;TZID=America/Chicago:20260217T193000
DTEND;TZID=America/Chicago:20260217T210000
DTSTAMP:20260420T194752
CREATED:20260117T163500Z
LAST-MODIFIED:20260214T124621Z
UID:10024480-1771356600-1771362000@gslcwi.com
SUMMARY:AA Meeting
DESCRIPTION:Jenni Nowak jenninowak25@gmail.com\nAlexander: 585.305.3414\nJennifer: 608.515.0697
URL:https://gslcwi.com/event/aa-meeting-194/
LOCATION:Verona Room 6
END:VEVENT
BEGIN:VEVENT
DTSTART;TZID=America/Chicago:20260210T193000
DTEND;TZID=America/Chicago:20260210T210000
DTSTAMP:20260420T194752
CREATED:20260103T171145Z
LAST-MODIFIED:20260207T125729Z
UID:10024413-1770751800-1770757200@gslcwi.com
SUMMARY:AA Meeting
DESCRIPTION:Jenni Nowak jenninowak25@gmail.com\nAlexander: 585.305.3414\nJennifer: 608.515.0697
URL:https://gslcwi.com/event/aa-meeting-193/
LOCATION:Verona Room 6
END:VEVENT
BEGIN:VEVENT
DTSTART;TZID=America/Chicago:20260209T180000
DTEND;TZID=America/Chicago:20260209T190000
DTSTAMP:20260420T194752
CREATED:20260103T165803Z
LAST-MODIFIED:20260207T125622Z
UID:10024406-1770660000-1770663600@gslcwi.com
SUMMARY:Webelos
DESCRIPTION:Kyle Davis\, anthem1@gmail.com
URL:https://gslcwi.com/event/webelos-9/
LOCATION:Verona Room 6
END:VEVENT
BEGIN:VEVENT
DTSTART;TZID=America/Chicago:20260203T193000
DTEND;TZID=America/Chicago:20260203T210000
DTSTAMP:20260420T194752
CREATED:20251227T162125Z
LAST-MODIFIED:20260131T125128Z
UID:10024368-1770147000-1770152400@gslcwi.com
SUMMARY:AA Meeting
DESCRIPTION:Jenni Nowak jenninowak25@gmail.com\nAlexander: 585.305.3414\nJennifer: 608.515.0697
URL:https://gslcwi.com/event/aa-meeting-192/
LOCATION:Verona Room 6
END:VEVENT
BEGIN:VEVENT
DTSTART;TZID=America/Chicago:20260202T183000
DTEND;TZID=America/Chicago:20260202T200000
DTSTAMP:20260420T194753
CREATED:20251220T164805Z
LAST-MODIFIED:20260131T123625Z
UID:10024278-1770057000-1770062400@gslcwi.com
SUMMARY:Girl Scouts
DESCRIPTION:Katy Kosobucki kbreidenbach@uwalumni.com
URL:https://gslcwi.com/event/girl-scouts-220/
LOCATION:Verona Room 6
END:VEVENT
BEGIN:VEVENT
DTSTART;TZID=America/Chicago:20260127T193000
DTEND;TZID=America/Chicago:20260127T210000
DTSTAMP:20260420T194753
CREATED:20251220T161424Z
LAST-MODIFIED:20260124T124757Z
UID:10024254-1769542200-1769547600@gslcwi.com
SUMMARY:AA Meeting
DESCRIPTION:Jenni Nowak jenninowak25@gmail.com\nAlexander: 585.305.3414\nJennifer: 608.515.0697
URL:https://gslcwi.com/event/aa-meeting-191/
LOCATION:Verona Room 6
END:VEVENT
BEGIN:VEVENT
DTSTART;TZID=America/Chicago:20260120T193000
DTEND;TZID=America/Chicago:20260120T210000
DTSTAMP:20260420T194753
CREATED:20251213T162150Z
LAST-MODIFIED:20260117T123304Z
UID:10024214-1768937400-1768942800@gslcwi.com
SUMMARY:AA Meeting
DESCRIPTION:Jenni Nowak jenninowak25@gmail.com\nAlexander: 585.305.3414\nJennifer: 608.515.0697
URL:https://gslcwi.com/event/aa-meeting-190/
LOCATION:Verona Room 6
END:VEVENT
BEGIN:VEVENT
DTSTART;TZID=America/Chicago:20260119T180000
DTEND;TZID=America/Chicago:20260119T190000
DTSTAMP:20260420T194753
CREATED:20260117T123113Z
LAST-MODIFIED:20260117T123113Z
UID:10024465-1768845600-1768849200@gslcwi.com
SUMMARY:Webelos Den Meeting
DESCRIPTION:Kyle Davis\, anthem1@gmail.com
URL:https://gslcwi.com/event/webelos-den-meeting-19/
LOCATION:Verona Room 6
END:VEVENT
BEGIN:VEVENT
DTSTART;TZID=America/Chicago:20260113T193000
DTEND;TZID=America/Chicago:20260113T210000
DTSTAMP:20260420T194753
CREATED:20251206T162818Z
LAST-MODIFIED:20260110T124008Z
UID:10024170-1768332600-1768338000@gslcwi.com
SUMMARY:AA Meeting
DESCRIPTION:Jenni Nowak jenninowak25@gmail.com\nAlexander: 585.305.3414\nJennifer: 608.515.0697
URL:https://gslcwi.com/event/aa-meeting-189/
LOCATION:Verona Room 6
END:VEVENT
BEGIN:VEVENT
DTSTART;TZID=America/Chicago:20260112T180000
DTEND;TZID=America/Chicago:20260112T190000
DTSTAMP:20260420T194753
CREATED:20251206T161139Z
LAST-MODIFIED:20260110T122412Z
UID:10024161-1768240800-1768244400@gslcwi.com
SUMMARY:Webelos
DESCRIPTION:Kyle Davis\, anthem1@gmail.com
URL:https://gslcwi.com/event/webelos-8/
LOCATION:Verona Room 6
END:VEVENT
BEGIN:VEVENT
DTSTART;TZID=America/Chicago:20260108T183000
DTEND;TZID=America/Chicago:20260108T193000
DTSTAMP:20260420T194753
CREATED:20251213T144806Z
LAST-MODIFIED:20260103T125408Z
UID:10024196-1767897000-1767900600@gslcwi.com
SUMMARY:Girl Scouts
DESCRIPTION:Kim Cleveland 763-300-2363
URL:https://gslcwi.com/event/girl-scouts-214/
LOCATION:Verona Room 6
END:VEVENT
BEGIN:VEVENT
DTSTART;TZID=America/Chicago:20260106T193000
DTEND;TZID=America/Chicago:20260106T210000
DTSTAMP:20260420T194753
CREATED:20251129T163108Z
LAST-MODIFIED:20260103T123722Z
UID:10024120-1767727800-1767733200@gslcwi.com
SUMMARY:AA Meeting
DESCRIPTION:Jenni Nowak jenninowak25@gmail.com\nAlexander: 585.305.3414\nJennifer: 608.515.0697
URL:https://gslcwi.com/event/aa-meeting-188/
LOCATION:Verona Room 6
END:VEVENT
BEGIN:VEVENT
DTSTART;TZID=America/Chicago:20260105T183000
DTEND;TZID=America/Chicago:20260105T200000
DTSTAMP:20260420T194753
CREATED:20251129T161735Z
LAST-MODIFIED:20260103T120559Z
UID:10024116-1767637800-1767643200@gslcwi.com
SUMMARY:Girl Scouts
DESCRIPTION:Katy Kosobucki kbreidenbach@uwalumni.com
URL:https://gslcwi.com/event/girl-scouts-210/
LOCATION:Verona Room 6
END:VEVENT
BEGIN:VEVENT
DTSTART;TZID=America/Chicago:20251230T193000
DTEND;TZID=America/Chicago:20251230T210000
DTSTAMP:20260420T194753
CREATED:20251129T160131Z
LAST-MODIFIED:20251227T120749Z
UID:10024102-1767123000-1767128400@gslcwi.com
SUMMARY:AA Meeting
DESCRIPTION:Jenni Nowak jenninowak25@gmail.com\nAlexander: 585.305.3414\nJennifer: 608.515.0697
URL:https://gslcwi.com/event/aa-meeting-187/
LOCATION:Verona Room 6
END:VEVENT
BEGIN:VEVENT
DTSTART;TZID=America/Chicago:20251223T193000
DTEND;TZID=America/Chicago:20251223T210000
DTSTAMP:20260420T194753
CREATED:20251122T160933Z
LAST-MODIFIED:20251220T121121Z
UID:10024079-1766518200-1766523600@gslcwi.com
SUMMARY:AA Meeting
DESCRIPTION:Jenni Nowak jenninowak25@gmail.com\nAlexander: 585.305.3414\nJennifer: 608.515.0697
URL:https://gslcwi.com/event/aa-meeting-186/
LOCATION:Verona Room 6
END:VEVENT
END:VCALENDAR