BEGIN:VCALENDAR
VERSION:2.0
PRODID:-//Good Shepherd Lutheran Church - ECPv6.15.20//NONSGML v1.0//EN
CALSCALE:GREGORIAN
METHOD:PUBLISH
X-ORIGINAL-URL:https://gslcwi.com
X-WR-CALDESC:Events for Good Shepherd Lutheran Church
REFRESH-INTERVAL;VALUE=DURATION:PT1H
X-Robots-Tag:noindex
X-PUBLISHED-TTL:PT1H
BEGIN:VTIMEZONE
TZID:America/Chicago
BEGIN:DAYLIGHT
TZOFFSETFROM:-0600
TZOFFSETTO:-0500
TZNAME:CDT
DTSTART:20250309T080000
END:DAYLIGHT
BEGIN:STANDARD
TZOFFSETFROM:-0500
TZOFFSETTO:-0600
TZNAME:CST
DTSTART:20251102T070000
END:STANDARD
BEGIN:DAYLIGHT
TZOFFSETFROM:-0600
TZOFFSETTO:-0500
TZNAME:CDT
DTSTART:20260308T080000
END:DAYLIGHT
BEGIN:STANDARD
TZOFFSETFROM:-0500
TZOFFSETTO:-0600
TZNAME:CST
DTSTART:20261101T070000
END:STANDARD
BEGIN:DAYLIGHT
TZOFFSETFROM:-0600
TZOFFSETTO:-0500
TZNAME:CDT
DTSTART:20270314T080000
END:DAYLIGHT
BEGIN:STANDARD
TZOFFSETFROM:-0500
TZOFFSETTO:-0600
TZNAME:CST
DTSTART:20271107T070000
END:STANDARD
END:VTIMEZONE
BEGIN:VEVENT
DTSTART;TZID=America/Chicago:20260416T190000
DTEND;TZID=America/Chicago:20260416T210000
DTSTAMP:20260419T213246
CREATED:20260314T155104Z
LAST-MODIFIED:20260411T135244Z
UID:10025567-1776366000-1776373200@gslcwi.com
SUMMARY:10:00 Worship Band Rehearsal
DESCRIPTION:Tracy Dahl\n________________________________________________________________________________\nMicrosoft Teams Need help?\nJoin the meeting now\nMeeting ID: 245 083 983 401 78\nPasscode: zJ2j3V3L\n________________________________\nFor organizers: Meeting options\n________________________________________________________________________________
URL:https://gslcwi.com/event/1000-worship-band-rehearsal-73/
LOCATION:Verona Sanctuary
END:VEVENT
BEGIN:VEVENT
DTSTART;TZID=America/Chicago:20260415T181500
DTEND;TZID=America/Chicago:20260415T200000
DTSTAMP:20260419T213246
CREATED:20260314T154612Z
LAST-MODIFIED:20260411T134738Z
UID:10025560-1776276900-1776283200@gslcwi.com
SUMMARY:Amped
DESCRIPTION:________________________________________________________________________________\nMicrosoft Teams Need help?\nJoin the meeting now\nMeeting ID: 274 624 423 337 40\nPasscode: BQ75Wo3m\n________________________________\nFor organizers: Meeting options\n________________________________________________________________________________
URL:https://gslcwi.com/event/amped-149/
LOCATION:Verona Sanctuary
END:VEVENT
BEGIN:VEVENT
DTSTART;TZID=America/Chicago:20260415T090000
DTEND;TZID=America/Chicago:20260415T100000
DTSTAMP:20260419T213246
CREATED:20260314T154119Z
LAST-MODIFIED:20260411T133752Z
UID:10025555-1776243600-1776247200@gslcwi.com
SUMMARY:Holy Yoga
DESCRIPTION:Jessie Kleiner kleiner.jessie@gmail.com
URL:https://gslcwi.com/event/holy-yoga-188/
LOCATION:Verona Sanctuary
END:VEVENT
BEGIN:VEVENT
DTSTART;TZID=America/Chicago:20260413T180000
DTEND;TZID=America/Chicago:20260413T203000
DTSTAMP:20260419T213246
CREATED:20260314T152724Z
LAST-MODIFIED:20260411T132428Z
UID:10025539-1776103200-1776112200@gslcwi.com
SUMMARY:The Grace Collective
DESCRIPTION:New GSLC women’s social community created to bring women together to grow in faith\, friendship and community.\n–\nMon\, Apr 13\, 6-8:15pm. Bring a project\, craft\, game or simply yourself. Meet other women\, moms\, retirees\, nature-lovers\, etc. Start a friendship circle with common interests. Bring an appetizer if you wish.\n–\nTues\, May 26th – Ice Age Trail and AzTec Taqueria (160 Keenan Ct\, Verona). We’ll trek through one of the most beautiful Ice Age Trail segments in the state\, enjoy conversation\, nature and tacos! Not into the hike? Meet us 6:30pm\, AzTec Taqueria\, Verona. Trail walkers\, meet at McKee/S. High Point Ice Age Trail Segment parking lot/shelter at 5:30-5:45pm.\n–\nReach out to Holly if you want event updates. hollyjsimon@gmail.com\nJoin Facebook Group: The Grace Collective – GSLC for events & communication.\n 
URL:https://gslcwi.com/event/grace-collective-6/
LOCATION:Verona Sanctuary
ATTACH;FMTTYPE=image/jpeg:https://gslcwi.com/wp-content/uploads/2026/01/The-Grace-Collective-16x9-copy.jpg
END:VEVENT
BEGIN:VEVENT
DTSTART;TZID=America/Chicago:20260409T190000
DTEND;TZID=America/Chicago:20260409T210000
DTSTAMP:20260419T213246
CREATED:20260314T150915Z
LAST-MODIFIED:20260404T135035Z
UID:10025522-1775761200-1775768400@gslcwi.com
SUMMARY:10:00 Worship Band Rehearsal
DESCRIPTION:Tracy Dahl\n________________________________________________________________________________\nMicrosoft Teams Need help?\nJoin the meeting now\nMeeting ID: 245 083 983 401 78\nPasscode: zJ2j3V3L\n________________________________\nFor organizers: Meeting options\n________________________________________________________________________________
URL:https://gslcwi.com/event/1000-worship-band-rehearsal-72/
LOCATION:Verona Sanctuary
END:VEVENT
BEGIN:VEVENT
DTSTART;TZID=America/Chicago:20260408T181500
DTEND;TZID=America/Chicago:20260408T200000
DTSTAMP:20260419T213246
CREATED:20260314T150005Z
LAST-MODIFIED:20260404T134148Z
UID:10025510-1775672100-1775678400@gslcwi.com
SUMMARY:Amped
DESCRIPTION:________________________________________________________________________________\nMicrosoft Teams Need help?\nJoin the meeting now\nMeeting ID: 274 624 423 337 40\nPasscode: BQ75Wo3m\n________________________________\nFor organizers: Meeting options\n________________________________________________________________________________
URL:https://gslcwi.com/event/amped-148/
LOCATION:Verona Sanctuary
END:VEVENT
BEGIN:VEVENT
DTSTART;TZID=America/Chicago:20260408T090000
DTEND;TZID=America/Chicago:20260408T100000
DTSTAMP:20260419T213246
CREATED:20260314T145537Z
LAST-MODIFIED:20260404T133317Z
UID:10025507-1775638800-1775642400@gslcwi.com
SUMMARY:Holy Yoga
DESCRIPTION:Jessie Kleiner kleiner.jessie@gmail.com
URL:https://gslcwi.com/event/holy-yoga-187/
LOCATION:Verona Sanctuary
END:VEVENT
BEGIN:VEVENT
DTSTART;TZID=America/Chicago:20260406T180000
DTEND;TZID=America/Chicago:20260406T203000
DTSTAMP:20260419T213246
CREATED:20260314T144543Z
LAST-MODIFIED:20260328T135032Z
UID:10025497-1775498400-1775507400@gslcwi.com
SUMMARY:Grace Collective
DESCRIPTION:Holly Simon\, hollyjsimon@gmail.com
URL:https://gslcwi.com/event/grace-collective-5/
LOCATION:Verona Sanctuary
END:VEVENT
BEGIN:VEVENT
DTSTART;TZID=America/Chicago:20260401T181500
DTEND;TZID=America/Chicago:20260401T200000
DTSTAMP:20260419T213246
CREATED:20260228T153412Z
LAST-MODIFIED:20260321T134033Z
UID:10025463-1775067300-1775073600@gslcwi.com
SUMMARY:Amped
DESCRIPTION:________________________________________________________________________________\nMicrosoft Teams Need help?\nJoin the meeting now\nMeeting ID: 274 624 423 337 40\nPasscode: BQ75Wo3m\n________________________________\nFor organizers: Meeting options\n________________________________________________________________________________
URL:https://gslcwi.com/event/amped-147/
LOCATION:Verona Sanctuary
END:VEVENT
BEGIN:VEVENT
DTSTART;TZID=America/Chicago:20260401T090000
DTEND;TZID=America/Chicago:20260401T100000
DTSTAMP:20260419T213246
CREATED:20260228T152857Z
LAST-MODIFIED:20260328T132308Z
UID:10025460-1775034000-1775037600@gslcwi.com
SUMMARY:Holy Yoga
DESCRIPTION:Jessie Kleiner kleiner.jessie@gmail.com
URL:https://gslcwi.com/event/holy-yoga-186/
LOCATION:Verona Sanctuary
END:VEVENT
BEGIN:VEVENT
DTSTART;TZID=America/Chicago:20260331T190000
DTEND;TZID=America/Chicago:20260331T210000
DTSTAMP:20260419T213246
CREATED:20260228T153913Z
LAST-MODIFIED:20260328T131926Z
UID:10025470-1774983600-1774990800@gslcwi.com
SUMMARY:10:00 Worship Band Rehearsal
DESCRIPTION:Tracy Dahl\n________________________________________________________________________________\nMicrosoft Teams Need help?\nJoin the meeting now\nMeeting ID: 245 083 983 401 78\nPasscode: zJ2j3V3L\n________________________________\nFor organizers: Meeting options\n________________________________________________________________________________
URL:https://gslcwi.com/event/1000-worship-band-rehearsal-71/
LOCATION:Verona Sanctuary
END:VEVENT
BEGIN:VEVENT
DTSTART;TZID=America/Chicago:20260330T180000
DTEND;TZID=America/Chicago:20260330T203000
DTSTAMP:20260419T213246
CREATED:20260228T152356Z
LAST-MODIFIED:20260328T131422Z
UID:10025455-1774893600-1774902600@gslcwi.com
SUMMARY:Grace Collective
DESCRIPTION:Holly Simon\, hollyjsimon@gmail.com
URL:https://gslcwi.com/event/grace-collective-4/
LOCATION:Verona Sanctuary
END:VEVENT
BEGIN:VEVENT
DTSTART;TZID=America/Chicago:20260326T190000
DTEND;TZID=America/Chicago:20260326T210000
DTSTAMP:20260419T213246
CREATED:20260221T151014Z
LAST-MODIFIED:20260321T132102Z
UID:10025429-1774551600-1774558800@gslcwi.com
SUMMARY:10:00 Worship Band Rehearsal
DESCRIPTION:Tracy Dahl\n________________________________________________________________________________\nMicrosoft Teams Need help?\nJoin the meeting now\nMeeting ID: 245 083 983 401 78\nPasscode: zJ2j3V3L\n________________________________\nFor organizers: Meeting options\n________________________________________________________________________________
URL:https://gslcwi.com/event/1000-worship-band-rehearsal-70/
LOCATION:Verona Sanctuary
END:VEVENT
BEGIN:VEVENT
DTSTART;TZID=America/Chicago:20260325T181500
DTEND;TZID=America/Chicago:20260325T200000
DTSTAMP:20260419T213246
CREATED:20260221T150605Z
LAST-MODIFIED:20260314T135246Z
UID:10025424-1774462500-1774468800@gslcwi.com
SUMMARY:Amped
DESCRIPTION:________________________________________________________________________________\nMicrosoft Teams Need help?\nJoin the meeting now\nMeeting ID: 274 624 423 337 40\nPasscode: BQ75Wo3m\n________________________________\nFor organizers: Meeting options\n________________________________________________________________________________
URL:https://gslcwi.com/event/amped-146/
LOCATION:Verona Sanctuary
END:VEVENT
BEGIN:VEVENT
DTSTART;TZID=America/Chicago:20260325T090000
DTEND;TZID=America/Chicago:20260325T100000
DTSTAMP:20260419T213246
CREATED:20260221T150149Z
LAST-MODIFIED:20260314T134318Z
UID:10025418-1774429200-1774432800@gslcwi.com
SUMMARY:Holy Yoga
DESCRIPTION:Jessie Kleiner kleiner.jessie@gmail.com
URL:https://gslcwi.com/event/holy-yoga-185/
LOCATION:Verona Sanctuary
END:VEVENT
BEGIN:VEVENT
DTSTART;TZID=America/Chicago:20260323T180000
DTEND;TZID=America/Chicago:20260323T203000
DTSTAMP:20260419T213246
CREATED:20260228T145414Z
LAST-MODIFIED:20260321T130243Z
UID:10025441-1774288800-1774297800@gslcwi.com
SUMMARY:Grace Collective
DESCRIPTION:Holly Simon\, hollyjsimon@gmail.com
URL:https://gslcwi.com/event/grace-collective-3/
LOCATION:Verona Sanctuary
END:VEVENT
BEGIN:VEVENT
DTSTART;TZID=America/Chicago:20260319T190000
DTEND;TZID=America/Chicago:20260319T210000
DTSTAMP:20260419T213246
CREATED:20260221T144136Z
LAST-MODIFIED:20260314T131916Z
UID:10025393-1773946800-1773954000@gslcwi.com
SUMMARY:10:00 Worship Band Rehearsal
DESCRIPTION:Tracy Dahl\n________________________________________________________________________________\nMicrosoft Teams Need help?\nJoin the meeting now\nMeeting ID: 245 083 983 401 78\nPasscode: zJ2j3V3L\n________________________________\nFor organizers: Meeting options\n________________________________________________________________________________
URL:https://gslcwi.com/event/1000-worship-band-rehearsal-69/
LOCATION:Verona Sanctuary
END:VEVENT
BEGIN:VEVENT
DTSTART;TZID=America/Chicago:20260318T181500
DTEND;TZID=America/Chicago:20260318T200000
DTSTAMP:20260419T213246
CREATED:20260214T150741Z
LAST-MODIFIED:20260314T131034Z
UID:10025381-1773857700-1773864000@gslcwi.com
SUMMARY:Amped
DESCRIPTION:________________________________________________________________________________\nMicrosoft Teams Need help?\nJoin the meeting now\nMeeting ID: 274 624 423 337 40\nPasscode: BQ75Wo3m\n________________________________\nFor organizers: Meeting options\n________________________________________________________________________________
URL:https://gslcwi.com/event/amped-145/
LOCATION:Verona Sanctuary
END:VEVENT
BEGIN:VEVENT
DTSTART;TZID=America/Chicago:20260318T090000
DTEND;TZID=America/Chicago:20260318T100000
DTSTAMP:20260419T213246
CREATED:20260214T150737Z
LAST-MODIFIED:20260314T131032Z
UID:10025377-1773824400-1773828000@gslcwi.com
SUMMARY:Holy Yoga
DESCRIPTION:Jessie Kleiner kleiner.jessie@gmail.com
URL:https://gslcwi.com/event/holy-yoga-184/
LOCATION:Verona Sanctuary
END:VEVENT
BEGIN:VEVENT
DTSTART;TZID=America/Chicago:20260316T180000
DTEND;TZID=America/Chicago:20260316T203000
DTSTAMP:20260419T213246
CREATED:20260228T141422Z
LAST-MODIFIED:20260314T130609Z
UID:10025437-1773684000-1773693000@gslcwi.com
SUMMARY:Grace Collective
DESCRIPTION:Holly Simon\, hollyjsimon@gmail.com
URL:https://gslcwi.com/event/grace-collective-2/
LOCATION:Verona Sanctuary
END:VEVENT
BEGIN:VEVENT
DTSTART;TZID=America/Chicago:20260312T190000
DTEND;TZID=America/Chicago:20260312T210000
DTSTAMP:20260419T213246
CREATED:20260214T144719Z
LAST-MODIFIED:20260307T132644Z
UID:10025352-1773342000-1773349200@gslcwi.com
SUMMARY:10:00 Worship Band Rehearsal
DESCRIPTION:Tracy Dahl\n________________________________________________________________________________\nMicrosoft Teams Need help?\nJoin the meeting now\nMeeting ID: 245 083 983 401 78\nPasscode: zJ2j3V3L\n________________________________\nFor organizers: Meeting options\n________________________________________________________________________________
URL:https://gslcwi.com/event/1000-worship-band-rehearsal-68/
LOCATION:Verona Sanctuary
END:VEVENT
BEGIN:VEVENT
DTSTART;TZID=America/Chicago:20260311T181500
DTEND;TZID=America/Chicago:20260311T200000
DTSTAMP:20260419T213246
CREATED:20260214T144308Z
LAST-MODIFIED:20260307T132154Z
UID:10025348-1773252900-1773259200@gslcwi.com
SUMMARY:Amped
DESCRIPTION:________________________________________________________________________________\nMicrosoft Teams Need help?\nJoin the meeting now\nMeeting ID: 274 624 423 337 40\nPasscode: BQ75Wo3m\n________________________________\nFor organizers: Meeting options\n________________________________________________________________________________
URL:https://gslcwi.com/event/amped-144/
LOCATION:Verona Sanctuary
END:VEVENT
BEGIN:VEVENT
DTSTART;TZID=America/Chicago:20260311T090000
DTEND;TZID=America/Chicago:20260311T100000
DTSTAMP:20260419T213246
CREATED:20260214T143450Z
LAST-MODIFIED:20260307T131654Z
UID:10025341-1773219600-1773223200@gslcwi.com
SUMMARY:Holy Yoga
DESCRIPTION:Jessie Kleiner kleiner.jessie@gmail.com
URL:https://gslcwi.com/event/holy-yoga-183/
LOCATION:Verona Sanctuary
END:VEVENT
BEGIN:VEVENT
DTSTART;TZID=America/Chicago:20260309T180000
DTEND;TZID=America/Chicago:20260309T203000
DTSTAMP:20260419T213246
CREATED:20260228T132954Z
LAST-MODIFIED:20260307T130237Z
UID:10025434-1773079200-1773088200@gslcwi.com
SUMMARY:Grace Collective
DESCRIPTION:Holly Simon\, hollyjsimon@gmail.com
URL:https://gslcwi.com/event/grace-collective/
LOCATION:Verona Sanctuary
END:VEVENT
BEGIN:VEVENT
DTSTART;TZID=America/Chicago:20260308T110000
DTEND;TZID=America/Chicago:20260308T120000
DTSTAMP:20260419T213246
CREATED:20260207T160321Z
LAST-MODIFIED:20260307T124801Z
UID:10025295-1772967600-1772971200@gslcwi.com
SUMMARY:Congregational Meeting
DESCRIPTION:________________________________________________________________________________\nMicrosoft Teams meeting\nJoin: https://teams.microsoft.com/meet/22237479939918?p=MnCWBWrq83WnBsjEE7\nMeeting ID: 222 374 799 399 18\nPasscode: Sh6RC7R4\n________________________________\nNeed help? | System reference\nFor organizers: Meeting options\n________________________________________________________________________________
URL:https://gslcwi.com/event/congregational-meeting/
LOCATION:Verona Sanctuary
END:VEVENT
BEGIN:VEVENT
DTSTART;TZID=America/Chicago:20260305T190000
DTEND;TZID=America/Chicago:20260305T210000
DTSTAMP:20260419T213246
CREATED:20260207T163623Z
LAST-MODIFIED:20260228T130508Z
UID:10025299-1772737200-1772744400@gslcwi.com
SUMMARY:10:00 Worship Band Rehearsal
DESCRIPTION:Tracy Dahl\n________________________________________________________________________________\nMicrosoft Teams Need help?\nJoin the meeting now\nMeeting ID: 245 083 983 401 78\nPasscode: zJ2j3V3L\n________________________________\nFor organizers: Meeting options\n________________________________________________________________________________
URL:https://gslcwi.com/event/1000-worship-band-rehearsal-67/
LOCATION:Verona Sanctuary
END:VEVENT
BEGIN:VEVENT
DTSTART;TZID=America/Chicago:20260304T181500
DTEND;TZID=America/Chicago:20260304T200000
DTSTAMP:20260419T213246
CREATED:20260131T171726Z
LAST-MODIFIED:20260228T130003Z
UID:10025227-1772648100-1772654400@gslcwi.com
SUMMARY:Amped
DESCRIPTION:________________________________________________________________________________\nMicrosoft Teams Need help?\nJoin the meeting now\nMeeting ID: 274 624 423 337 40\nPasscode: BQ75Wo3m\n________________________________\nFor organizers: Meeting options\n________________________________________________________________________________
URL:https://gslcwi.com/event/amped-143/
LOCATION:Verona Sanctuary
END:VEVENT
BEGIN:VEVENT
DTSTART;TZID=America/Chicago:20260304T090000
DTEND;TZID=America/Chicago:20260304T100000
DTSTAMP:20260419T213246
CREATED:20260131T171633Z
LAST-MODIFIED:20260228T125501Z
UID:10025221-1772614800-1772618400@gslcwi.com
SUMMARY:Holy Yoga
DESCRIPTION:Jessie Kleiner kleiner.jessie@gmail.com
URL:https://gslcwi.com/event/holy-yoga-182/
LOCATION:Verona Sanctuary
END:VEVENT
BEGIN:VEVENT
DTSTART;TZID=America/Chicago:20260226T190000
DTEND;TZID=America/Chicago:20260226T210000
DTSTAMP:20260419T213246
CREATED:20260131T162927Z
LAST-MODIFIED:20260221T130440Z
UID:10025197-1772132400-1772139600@gslcwi.com
SUMMARY:10:00 Worship Band Rehearsal
DESCRIPTION:Tracy Dahl\n________________________________________________________________________________\nMicrosoft Teams Need help?\nJoin the meeting now\nMeeting ID: 245 083 983 401 78\nPasscode: zJ2j3V3L\n________________________________\nFor organizers: Meeting options\n________________________________________________________________________________
URL:https://gslcwi.com/event/1000-worship-band-rehearsal-66/
LOCATION:Verona Sanctuary
END:VEVENT
BEGIN:VEVENT
DTSTART;TZID=America/Chicago:20260225T181500
DTEND;TZID=America/Chicago:20260225T200000
DTSTAMP:20260419T213246
CREATED:20260124T171755Z
LAST-MODIFIED:20260221T130041Z
UID:10025179-1772043300-1772049600@gslcwi.com
SUMMARY:Amped
DESCRIPTION:________________________________________________________________________________\nMicrosoft Teams Need help?\nJoin the meeting now\nMeeting ID: 274 624 423 337 40\nPasscode: BQ75Wo3m\n________________________________\nFor organizers: Meeting options\n________________________________________________________________________________
URL:https://gslcwi.com/event/amped-142/
LOCATION:Verona Sanctuary
END:VEVENT
END:VCALENDAR